BEGIN:VCALENDAR
VERSION:2.0
PRODID:-//ChamberMaster//Event Calendar 2.0//EN
METHOD:PUBLISH
X-PUBLISHED-TTL:P3D
REFRESH-INTERVAL:P3D
CALSCALE:GREGORIAN
BEGIN:VEVENT
DTSTART:20250527T153000Z
DTEND:20250527T170000Z
X-MICROSOFT-CDO-ALLDAYEVENT:FALSE
SUMMARY:May Chamber Monthly Meeting: Davie County Leadership Roundtable
DESCRIPTION:May Chamber Monthly Meeting\n\nDavie County Leadership Roundtable\n\nBringing Together Leaders and Community for an Open Dialogue\n\nJoin us for a "Davie County Leadership Roundtable"\, a highly informative event designed to foster collaboration\, share updates\, and strengthen the connection between our local government and community.\n\nThis unique gathering will feature town managers\, mayors\, county officials\, and other key government leaders from across Davie County\, coming together to provide updates on major projects\, initiatives\, and priorities impacting our towns and the county as a whole. Attendees will have the opportunity to hear directly from leadership\, engage in open dialogue\, and ask questions on the topics that matter most to our community and businesses.\n\nWhether you are a business leader\, community advocate\, or a resident invested in the future of Davie County\, this roundtable offers a front-row seat to the collaborative efforts shaping our area's growth and success.\n\nDon't miss this chance to connect\, learn\, and be part of the conversation driving Davie County forward!\n\n\nLunch is $15. There is no charge if you are not having lunch but registration is still required to secure your seat.\n\n\n\nThis is an open networking event @ WinMock at Kinderton specifically for our chamber members to provide them with multiple opportunities to meet and develop relationships with fellow business owners in our community.\n\n\n\nGuests are permitted to attend up to two networking meetings before joining the Chamber.
X-ALT-DESC;FMTTYPE=text/html:<p data-end="144" data-start="53"><span style="color:#000000\;"><span style="font-size:18px\;"><span style="font-family:tahoma\;"><strong data-end="91" data-start="53">May Chamber Monthly Meeting<br />\nDavie County Leadership Roundtable</strong><br data-end="94" data-start="91" />\n<strong data-end="144" data-start="94">Bringing Together Leaders and Community for an Open Dialogue</strong></span></span></span></p>\n\n<p data-end="354" data-start="146"><span style="color:#000000\;"><span style="font-size:18px\;"><span style="font-family:tahoma\;">Join us for a &quot\;<strong data-end="210" data-start="172">Davie County Leadership Roundtable&quot\;</strong>\, a highly informative event designed to foster collaboration\, share updates\, and strengthen the connection between our local government and community.</span></span></span></p>\n\n<p data-end="800" data-start="356"><span style="color:#000000\;"><span style="font-size:18px\;"><span style="font-family:tahoma\;">This unique gathering will feature <strong data-end="468" data-start="391">town managers\, mayors\, county officials\, and other key government leaders</strong> from across Davie County\, coming together to provide updates on major projects\, initiatives\, and priorities impacting our towns and the county as a whole. Attendees will have the opportunity to hear directly from leadership\, engage in open dialogue\, and ask questions on the topics that matter most to our community and businesses.</span></span></span></p>\n\n<p data-end="1018" data-start="802"><span style="color:#000000\;"><span style="font-size:18px\;"><span style="font-family:tahoma\;">Whether you are a business leader\, community advocate\, or a resident invested in the future of Davie County\, this roundtable offers a front-row seat to the collaborative efforts shaping our area&#39\;s growth and success.</span></span></span></p>\n\n<p data-end="1411" data-start="1308"><span style="color:#000000\;"><span style="font-size:18px\;"><span style="font-family:tahoma\;">Don&#39\;t miss this chance to connect\, learn\, and be part of the conversation driving Davie County forward!</span></span></span></p>\n<br />\n<span style="color:#008000\;"><strong><span style="font-size:18px\;"><span style="font-family:tahoma\;">Lunch is $15. There is no charge if you are not having lunch but registration is still required to secure your seat.</span></span></strong></span><br />\n<br />\n<span style="color:#000000\;"><span style="font-size:18px\;"><span style="font-family:tahoma\;">This is an open networking event @ WinMock at Kinderton specifically for our chamber members to provide them with multiple opportunities to meet and develop relationships with fellow business owners in our community.<br />\n<br />\nGuests are permitted to attend up to two networking meetings before joining the Chamber.</span></span></span>\n\n<p style="box-sizing: border-box\; margin: 5px 0px\; padding: 0px\; list-style-type: none\; line-height: 15px\; font-family: Arial\, &quot\;Helvetica Neue&quot\;\, Helvetica\, sans-serif\; font-size: 11px\; color: rgb(68\, 68\, 68)\;">&nbsp\;</p>\n
LOCATION:WinMock at Kinderton
UID:e.2378.13865
SEQUENCE:3
DTSTAMP:20260426T005601Z
URL:https://business.daviechamber.com/events/details/may-chamber-monthly-meeting-davie-county-leadership-roundtable-13865
END:VEVENT

END:VCALENDAR
