BEGIN:VCALENDAR
VERSION:2.0
PRODID:-//ChamberMaster//Event Calendar 2.0//EN
METHOD:PUBLISH
X-PUBLISHED-TTL:P3D
REFRESH-INTERVAL:P3D
CALSCALE:GREGORIAN
BEGIN:VEVENT
DTSTART:20230817T170000Z
DTEND:20230817T200000Z
X-MICROSOFT-CDO-ALLDAYEVENT:FALSE
SUMMARY:Medicinal Herb Propagation Workshop
DESCRIPTION:The Piedmont Medicinal Herb Growers Group Invites You To:\n\nMedicinal Herb Propagation Workshop\n\nAugust 17\, 2023 from 1:00 PM-4:00 PM\n\nDavie County Library | 371 N Main Street\, Mocksville\n\nFor more information\, call 336.753.6100\n\n\n\nLearn different propagation techniques including seed starting\, cuttings\, division\, and grafting. There will be hands-on activities and demonstrations.\n\nCome with questions and prepare to enjoy an interactive workshop.
X-ALT-DESC;FMTTYPE=text/html:The Piedmont Medicinal Herb Growers Group Invites You To:<br />\nMedicinal Herb Propagation Workshop<br />\nAugust 17\, 2023 from 1:00 PM-4:00 PM<br />\nDavie County Library | 371 N Main Street\, Mocksville<br />\nFor more information\, call 336.753.6100<br />\n<br />\nLearn different propagation techniques including seed starting\, cuttings\, division\, and grafting. There will be hands-on activities and demonstrations.<br />\nCome with questions and prepare to enjoy an interactive workshop.
LOCATION:Davie County Public Library
UID:e.2378.23181
SEQUENCE:3
DTSTAMP:20260425T201424Z
URL:https://business.daviechamber.com/events/details/medicinal-herb-propagation-workshop-23181
END:VEVENT

END:VCALENDAR
