BEGIN:VCALENDAR
VERSION:2.0
PRODID:-//ChamberMaster//Event Calendar 2.0//EN
METHOD:PUBLISH
X-PUBLISHED-TTL:P3D
REFRESH-INTERVAL:P3D
CALSCALE:GREGORIAN
BEGIN:VEVENT
DTSTART:20151015T220000Z
DTEND:20151016T000000Z
X-MICROSOFT-CDO-ALLDAYEVENT:FALSE
SUMMARY:Mediterranean Group Cruise Dinner Meeting
DESCRIPTION:Memory Makers Club-Going to Rome-Part 2\n\nIn anticipation of our group Mediterranean Cruise next year\, we will be showing a DVD on Vatican City & continue making plans for our time in The Eternal City.\n\nThere's still time to join the group cruise so bring a friend & join us in the party room for dinner.\n\nPlease RSVP to http://travel@saltydogcruiseandtravelplanners.com or 336 476-7088
X-ALT-DESC;FMTTYPE=text/html:Memory Makers Club-Going to Rome-Part 2<br />\nIn anticipation of our group Mediterranean Cruise next year\, we will be showing a DVD on Vatican City &amp\; continue making plans for our time in The Eternal City.<br />\nThere&#39\;s still time to join the group cruise so bring a friend &amp\; join us in the party room for dinner.<br />\nPlease RSVP to&nbsp\;<a href="http://travel@saltydogcruiseandtravelplanners.com">http://travel@saltydogcruiseandtravelplanners.com</a>&nbsp\;or 336 476-7088
LOCATION:Sunrise Diner Thomasville
UID:e.2378.4012
SEQUENCE:3
DTSTAMP:20260422T072422Z
URL:https://business.daviechamber.com/events/details/mediterranean-group-cruise-dinner-meeting-10-15-2015-4012
END:VEVENT

END:VCALENDAR
