BEGIN:VCALENDAR
VERSION:2.0
PRODID:-//ChamberMaster//Event Calendar 2.0//EN
METHOD:PUBLISH
X-PUBLISHED-TTL:P3D
REFRESH-INTERVAL:P3D
CALSCALE:GREGORIAN
BEGIN:VEVENT
DTSTART:20250529T210000Z
DTEND:20250529T210000Z
X-MICROSOFT-CDO-ALLDAYEVENT:FALSE
SUMMARY:Meet the Amazing Decomposers | Davie County Public Library
DESCRIPTION:Join Ms. Abby with Davie County 4-H and Mrs. Karen with DCPL for WORM FUN\n\nThursday\, May 29th ~ 5-7 PM\n\nRegister @ bit.ly/4HSTEAMWORMS
X-ALT-DESC;FMTTYPE=text/html:<span style="color: rgb(8\, 8\, 9)\; font-family: &quot\;Segoe UI Historic&quot\;\, &quot\;Segoe UI&quot\;\, Helvetica\, Arial\, sans-serif\; font-size: 15px\;">Join Ms. Abby with Davie County 4-H and Mrs. Karen with DCPL for WORM FUN</span><br class="html-br" style="color: rgb(8\, 8\, 9)\; font-family: &quot\;Segoe UI Historic&quot\;\, &quot\;Segoe UI&quot\;\, Helvetica\, Arial\, sans-serif\; font-size: 15px\;" />\n<span style="color: rgb(8\, 8\, 9)\; font-family: &quot\;Segoe UI Historic&quot\;\, &quot\;Segoe UI&quot\;\, Helvetica\, Arial\, sans-serif\; font-size: 15px\;">Thursday\, May 29th ~ 5-7 PM</span><br class="html-br" style="color: rgb(8\, 8\, 9)\; font-family: &quot\;Segoe UI Historic&quot\;\, &quot\;Segoe UI&quot\;\, Helvetica\, Arial\, sans-serif\; font-size: 15px\;" />\n<span style="color: rgb(8\, 8\, 9)\; font-family: &quot\;Segoe UI Historic&quot\;\, &quot\;Segoe UI&quot\;\, Helvetica\, Arial\, sans-serif\; font-size: 15px\;">Register @&nbsp\;</span><a attributionsrc="/privacy_sandbox/comet/register/source/?xt=AZWb-CqrCpD2GOmRDtbryLHlCvSAqd-EbS1duX32Jfuktri--40jabW75jNo5ar5QvxfIT1Ge067gSCiKZr4XACCfMeFwF0sSLe5nC610GBZmnlHcIRZYtvojHM0Sjn5CvMNmORYqyhH7uDEB7mi8x_4BmDjjoAusTJchyfhiLb88wDFcoL7ZIm49qcSKJ5hAwdkBEppPdSuxgxHtazPUB7e3SVP-RI4VQrZ7sdfYfAQpWic7Lq8sLzgpuzafDzMfRYEmYBjK0zlMsjPImPbgGhlfcj4EBKFpkZ55D2gUzve32gUSwi37dat0ezEw-UlbTUh0xn1a2RHoiV7bBBTEmlQHMqqeIRnTa-CkRqeuhHUZbODC_wWDhAABBT2ZXs3idniE1bSwv8JR8_SL4Xv9aq_bivOYqff0_Qh4tULyOKlyRbZ-OmAwsT941DRgyy6QoHq_DI5lRJ6rt39MRDPEp0YZFO-QDneo86Z1Rrld9KtmuD9cDNh0AIGD5VaY3nQq_b-59VrxLk1-CPpV-dEntamr5r1TPyn1-dx-v8exz0GQF4cB27acDWh5MPOzxeTc62BrdjyhMYSlNAYa9oP3AYRIe_UJZTzxBRlidADCFzOadVrjpgBVZXliIwDfabMSwUKMHcD1Z2FUGJazA71lvLGaqQoyJ56xze1YAVpC_l1aPchopAFVzEvTu3VS-7VF-eTqUh62NHB39MtP-BmrGL2LbettUPaPGOdf1Btg0BqQvKjB1_uMoenajKETKzwJrchJI7vvutBzC2BdDKpPD3gD_wkMtPDFnMvA2uAYKT0tlrXkZRToEOTsEK_3vhjAiZJcTxICtMDmVNtU0dqRFxVReFQAu3b8xFprmnTehXW7Q" class="x1i10hfl xjbqb8w x1ejq31n xd10rxx x1sy0etr x17r0tee x972fbf xcfux6l x1qhh985 xm0m39n x9f619 x1ypdohk xt0psk2 xe8uvvx xdj266r x11i5rnm xat24cr x1mh8g0r xexx8yu x4uap5 x18d9i69 xkhd6sd x16tdsg8 x1hl2dhg xggy1nq x1a2a7pz xkrqix3 x1sur9pj x1fey0fg x1s688f" href="https://bit.ly/4HSTEAMWORMS?fbclid=IwZXh0bgNhZW0CMTAAYnJpZBExUDVkYVJzMUpwRmdYQnZySAEe_lT6xdnMWAwioP-iMbf662ZStF7djCyOlftWOAPVbAltRnKPo4qKM51gDMk_aem_htHW9Hqqw1AWBF-AblqJKQ" rel="nofollow noreferrer" role="link" style="color: rgb(0\, 100\, 209)\; cursor: pointer\; text-decoration-line: none\; list-style: none\; margin: 0px\; border-style: none\; padding: 0px\; box-sizing: border-box\; border-width: 0px\; outline: none\; -webkit-tap-highlight-color: transparent\; font-weight: 600\; touch-action: manipulation\; display: inline\; font-family: &quot\;Segoe UI Historic&quot\;\, &quot\;Segoe UI&quot\;\, Helvetica\, Arial\, sans-serif\; font-size: 15px\;" tabindex="0" target="_blank">bit.ly/4HSTEAMWORMS</a>
LOCATION:Davie County Public Library
UID:e.2378.27327
SEQUENCE:3
DTSTAMP:20260426T005601Z
URL:https://business.daviechamber.com/events/details/meet-the-amazing-decomposers-davie-county-public-library-27327
END:VEVENT

END:VCALENDAR
