BEGIN:VCALENDAR
VERSION:2.0
PRODID:-//ChamberMaster//Event Calendar 2.0//EN
METHOD:PUBLISH
X-PUBLISHED-TTL:P3D
REFRESH-INTERVAL:P3D
CALSCALE:GREGORIAN
BEGIN:VEVENT
DTSTART:20170119T223000Z
DTEND:20170120T000000Z
X-MICROSOFT-CDO-ALLDAYEVENT:FALSE
SUMMARY:Meet the Docs Night @ Davie Medical Center
DESCRIPTION:Find out what may be causing the pain in your knee and hip\, and what treatment options are available from our orthopedic surgeons. Learn the latest procedures on hip and knee replacement. Light refreshments will be served. Pre-registration is required.
X-ALT-DESC;FMTTYPE=text/html:Find out what may be causing the pain in your knee and hip\, and what treatment options are available from our orthopedic surgeons. Learn the latest procedures on hip and knee replacement. Light refreshments will be served. Pre-registration is required.
LOCATION:Wake Forest Baptist Health - Davie Medical Center Plaza 2\, 1st Floor Atrium 329 NC Hwy 801 N Bermuda Run\, NC 27006
UID:e.2378.10894
SEQUENCE:3
DTSTAMP:20260421T103318Z
URL:https://business.daviechamber.com/events/details/meet-the-docs-night-davie-medical-center-10894
END:VEVENT

END:VCALENDAR
