BEGIN:VCALENDAR
VERSION:2.0
PRODID:-//ChamberMaster//Event Calendar 2.0//EN
METHOD:PUBLISH
X-PUBLISHED-TTL:P3D
REFRESH-INTERVAL:P3D
CALSCALE:GREGORIAN
BEGIN:VEVENT
DTSTART:20160604T143000Z
DTEND:20160604T220000Z
X-MICROSOFT-CDO-ALLDAYEVENT:FALSE
SUMMARY:Milling Manor Poker Run
DESCRIPTION:Prizes\, live music\, food. Benefits special children.
X-ALT-DESC;FMTTYPE=text/html:<br />\nPrizes\, live music\, food. Benefits special children.
LOCATION:Beach N' Tans 953 S. Salisbury Street\, Mocksville
UID:e.2378.5481
SEQUENCE:3
DTSTAMP:20260422T232529Z
URL:https://business.daviechamber.com/events/details/milling-manor-poker-run-06-04-2016-5481
END:VEVENT

END:VCALENDAR
