BEGIN:VCALENDAR
VERSION:2.0
PRODID:-//ChamberMaster//Event Calendar 2.0//EN
METHOD:PUBLISH
X-PUBLISHED-TTL:P3D
REFRESH-INTERVAL:P3D
CALSCALE:GREGORIAN
BEGIN:VEVENT
DTSTART:20190512T163000Z
DTEND:20190512T190000Z
X-MICROSOFT-CDO-ALLDAYEVENT:FALSE
SUMMARY:Mimosas for Mom
DESCRIPTION:Celebrate Mother's Day at RayLen! Ticket includes a delicious brunch\, two glasses of wine\, and beautiful vineyard views.\n\n\n\nCost is $35 per person/$25 without alcohol\n\n\n\nReservations required by May 10th\, as seating is limited. \n\nPurchase tickets via phone at 336.998.3100\n\n\n\nBrunch Buffet Menu:\n\nStuffed French toast \n\nBreakfast Casserole \n\nCarved Ham \n\nMuffins\, Bagels\, and Rolls \n\nBroccoli and Cauliflower \n\nSalad with Poppy Seed Dressing \n\nStrawberry Shortcakes\n\nLemon Tarts \n\nFresh Fruit \n\n\n\nBeverages: Lemonade\, Tea\, & of course\, Mimosas!
X-ALT-DESC;FMTTYPE=text/html:<span style="color: rgb(29\, 33\, 41)\; font-family: Helvetica\, Arial\, sans-serif\; font-size: 14px\; white-space: pre-wrap\;">Celebrate Mother&rsquo\;s Day at RayLen! Ticket includes a delicious brunch\, two glasses of wine\, and beautiful vineyard views.</span><br style="color: rgb(29\, 33\, 41)\; font-family: Helvetica\, Arial\, sans-serif\; font-size: 14px\; white-space: pre-wrap\;" />\n<br style="color: rgb(29\, 33\, 41)\; font-family: Helvetica\, Arial\, sans-serif\; font-size: 14px\; white-space: pre-wrap\;" />\n<span style="color: rgb(29\, 33\, 41)\; font-family: Helvetica\, Arial\, sans-serif\; font-size: 14px\; white-space: pre-wrap\;">Cost is $35 per person/$25 without alcohol</span><br style="color: rgb(29\, 33\, 41)\; font-family: Helvetica\, Arial\, sans-serif\; font-size: 14px\; white-space: pre-wrap\;" />\n<br style="color: rgb(29\, 33\, 41)\; font-family: Helvetica\, Arial\, sans-serif\; font-size: 14px\; white-space: pre-wrap\;" />\n<span style="color: rgb(29\, 33\, 41)\; font-family: Helvetica\, Arial\, sans-serif\; font-size: 14px\; white-space: pre-wrap\;">Reservations required by May 10th\, as seating is limited. </span><br style="color: rgb(29\, 33\, 41)\; font-family: Helvetica\, Arial\, sans-serif\; font-size: 14px\; white-space: pre-wrap\;" />\n<span style="color: rgb(29\, 33\, 41)\; font-family: Helvetica\, Arial\, sans-serif\; font-size: 14px\; white-space: pre-wrap\;">Purchase tickets via phone at 336.998.3100</span><br style="color: rgb(29\, 33\, 41)\; font-family: Helvetica\, Arial\, sans-serif\; font-size: 14px\; white-space: pre-wrap\;" />\n<br style="color: rgb(29\, 33\, 41)\; font-family: Helvetica\, Arial\, sans-serif\; font-size: 14px\; white-space: pre-wrap\;" />\n<span style="color: rgb(29\, 33\, 41)\; font-family: Helvetica\, Arial\, sans-serif\; font-size: 14px\; white-space: pre-wrap\;">Brunch Buffet Menu:</span><br style="color: rgb(29\, 33\, 41)\; font-family: Helvetica\, Arial\, sans-serif\; font-size: 14px\; white-space: pre-wrap\;" />\n<span style="color: rgb(29\, 33\, 41)\; font-family: Helvetica\, Arial\, sans-serif\; font-size: 14px\; white-space: pre-wrap\;">Stuffed French toast </span><br style="color: rgb(29\, 33\, 41)\; font-family: Helvetica\, Arial\, sans-serif\; font-size: 14px\; white-space: pre-wrap\;" />\n<span style="color: rgb(29\, 33\, 41)\; font-family: Helvetica\, Arial\, sans-serif\; font-size: 14px\; white-space: pre-wrap\;">Breakfast Casserole </span><br style="color: rgb(29\, 33\, 41)\; font-family: Helvetica\, Arial\, sans-serif\; font-size: 14px\; white-space: pre-wrap\;" />\n<span style="color: rgb(29\, 33\, 41)\; font-family: Helvetica\, Arial\, sans-serif\; font-size: 14px\; white-space: pre-wrap\;">Carved Ham </span><br style="color: rgb(29\, 33\, 41)\; font-family: Helvetica\, Arial\, sans-serif\; font-size: 14px\; white-space: pre-wrap\;" />\n<span style="color: rgb(29\, 33\, 41)\; font-family: Helvetica\, Arial\, sans-serif\; font-size: 14px\; white-space: pre-wrap\;">Muffins\, Bagels\, and Rolls </span><br style="color: rgb(29\, 33\, 41)\; font-family: Helvetica\, Arial\, sans-serif\; font-size: 14px\; white-space: pre-wrap\;" />\n<span style="color: rgb(29\, 33\, 41)\; font-family: Helvetica\, Arial\, sans-serif\; font-size: 14px\; white-space: pre-wrap\;">Broccoli and Cauliflower </span><br style="color: rgb(29\, 33\, 41)\; font-family: Helvetica\, Arial\, sans-serif\; font-size: 14px\; white-space: pre-wrap\;" />\n<span style="color: rgb(29\, 33\, 41)\; font-family: Helvetica\, Arial\, sans-serif\; font-size: 14px\; white-space: pre-wrap\;">Salad with Poppy Seed Dressing </span><br style="color: rgb(29\, 33\, 41)\; font-family: Helvetica\, Arial\, sans-serif\; font-size: 14px\; white-space: pre-wrap\;" />\n<span style="color: rgb(29\, 33\, 41)\; font-family: Helvetica\, Arial\, sans-serif\; font-size: 14px\; white-space: pre-wrap\;">Strawberry Shortcakes</span><br style="color: rgb(29\, 33\, 41)\; font-family: Helvetica\, Arial\, sans-serif\; font-size: 14px\; white-space: pre-wrap\;" />\n<span style="color: rgb(29\, 33\, 41)\; font-family: Helvetica\, Arial\, sans-serif\; font-size: 14px\; white-space: pre-wrap\;">Lemon Tarts </span><br style="color: rgb(29\, 33\, 41)\; font-family: Helvetica\, Arial\, sans-serif\; font-size: 14px\; white-space: pre-wrap\;" />\n<span style="color: rgb(29\, 33\, 41)\; font-family: Helvetica\, Arial\, sans-serif\; font-size: 14px\; white-space: pre-wrap\;">Fresh Fruit </span><br style="color: rgb(29\, 33\, 41)\; font-family: Helvetica\, Arial\, sans-serif\; font-size: 14px\; white-space: pre-wrap\;" />\n<br style="color: rgb(29\, 33\, 41)\; font-family: Helvetica\, Arial\, sans-serif\; font-size: 14px\; white-space: pre-wrap\;" />\n<span style="color: rgb(29\, 33\, 41)\; font-family: Helvetica\, Arial\, sans-serif\; font-size: 14px\; white-space: pre-wrap\;">Beverages: Lemonade\, Tea\, &amp\; of course\, Mimosas!</span>
LOCATION:RayLen Vineyards & Winery 3577 US Hwy 158 Mocksville
UID:e.2378.15746
SEQUENCE:3
DTSTAMP:20260419T140757Z
URL:https://business.daviechamber.com/events/details/mimosas-for-mom-15746
END:VEVENT

END:VCALENDAR
