BEGIN:VCALENDAR
VERSION:2.0
PRODID:-//ChamberMaster//Event Calendar 2.0//EN
METHOD:PUBLISH
X-PUBLISHED-TTL:P3D
REFRESH-INTERVAL:P3D
CALSCALE:GREGORIAN
BEGIN:VEVENT
DTSTART:20260119T190000Z
DTEND:20260119T210000Z
X-MICROSOFT-CDO-ALLDAYEVENT:FALSE
SUMMARY:MLK Day Celebration
DESCRIPTION:The Davie County NAACP will celebrate MLK Day on Monday\, January 19 at Cedar Creek Baptist Church\,  711 Cedar Creek Road\, Mocksville beginning at 2 pm.\n\n\n\nThe Rev. Coker Stewart is the host pastor\, The speaker will be the Rev. Dr. Robert L McGowens\, Sr.\, pastor emeritus of the Greater Galilee Baptist Church of Charlotte\, and Winston-Salem.
X-ALT-DESC;FMTTYPE=text/html:The Davie County NAACP will celebrate MLK Day on Monday\, January 19 at Cedar Creek Baptist Church\,&nbsp\; 711 Cedar Creek Road\, Mocksville beginning at 2 pm.<br />\n<br />\nThe Rev. Coker Stewart is the host pastor\, The speaker will be the Rev. Dr. Robert L McGowens\, Sr.\, pastor emeritus of the Greater Galilee Baptist Church of Charlotte\, and Winston-Salem.
LOCATION:Cedar Creek Baptist Church
UID:e.2378.29507
SEQUENCE:3
DTSTAMP:20260424T133441Z
URL:https://business.daviechamber.com/events/details/mlk-day-celebration-29507
END:VEVENT

END:VCALENDAR
