BEGIN:VCALENDAR
VERSION:2.0
PRODID:-//ChamberMaster//Event Calendar 2.0//EN
METHOD:PUBLISH
X-PUBLISHED-TTL:P3D
REFRESH-INTERVAL:P3D
CALSCALE:GREGORIAN
BEGIN:VEVENT
DTSTART:20230726T133000Z
DTEND:20230727T030000Z
X-MICROSOFT-CDO-ALLDAYEVENT:FALSE
SUMMARY:Mobile Rec Days
DESCRIPTION:Join us for weird\, wacky and wild games and activities all summer long.  This event will be held at Cognition\, free event\, and open to all ages. No registration required!
X-ALT-DESC;FMTTYPE=text/html:Join us for weird\, wacky and wild games and activities all summer long.&nbsp\; This event will be held at Cognition\, free event\, and open to all ages. No registration required!
LOCATION:Cognition Davie
UID:e.2378.23052
SEQUENCE:3
DTSTAMP:20260425T214109Z
URL:https://business.daviechamber.com/events/details/mobile-rec-days-23052
END:VEVENT

END:VCALENDAR
