BEGIN:VCALENDAR
VERSION:2.0
PRODID:-//ChamberMaster//Event Calendar 2.0//EN
METHOD:PUBLISH
X-PUBLISHED-TTL:P3D
REFRESH-INTERVAL:P3D
CALSCALE:GREGORIAN
BEGIN:VEVENT
DTSTART:20171111T113000Z
DTEND:20171111T150000Z
X-MICROSOFT-CDO-ALLDAYEVENT:FALSE
SUMMARY:Mocks UMC Breakfast
DESCRIPTION:Mocks UMC will host breakfast sponsored by the United Methodist Men. Cost is $7.00 a plate. Menu consists of country ham\, pork tenderloin\, eggs\, grits\, sausage gravy\, biscuit and beverage. Proceeds benefit the UMM's mission projects. The United Methodist Women will have a bake sale during this time. Start the day off with a delicious breakfast and take home some goodies to enjoy!
X-ALT-DESC;FMTTYPE=text/html:Mocks UMC will host breakfast sponsored by the United Methodist Men. Cost is $7.00 a plate. Menu consists of country ham\, pork tenderloin\, eggs\, grits\, sausage gravy\, biscuit and beverage. Proceeds benefit the UMM&#39\;s mission projects. The United Methodist Women will have a bake sale during this time. Start the day off with a delicious breakfast and take home some goodies to enjoy!
LOCATION:Mocks UMC\, corner of Mocks Church Road and Beauchamp Road in Advance.
UID:e.2378.13275
SEQUENCE:3
DTSTAMP:20260421T222938Z
URL:https://business.daviechamber.com/events/details/mocks-umc-breakfast-13275
END:VEVENT

END:VCALENDAR
