BEGIN:VCALENDAR
VERSION:2.0
PRODID:-//ChamberMaster//Event Calendar 2.0//EN
METHOD:PUBLISH
X-PUBLISHED-TTL:P3D
REFRESH-INTERVAL:P3D
CALSCALE:GREGORIAN
BEGIN:VEVENT
DTSTART:20250606T223000Z
DTEND:20250607T010000Z
X-MICROSOFT-CDO-ALLDAYEVENT:FALSE
SUMMARY:Mocksville Baseball Classic: Carolina Disco Turkeys vs Queen City Corndogs
DESCRIPTION:Get ready to watch the Triad's most exciting team! Watch the Disco Turkeys take on the Queen City Corndogs in the Mocksville Baseball Classic on Friday\, June 6\, at 6:30 PM at Mando Field at Rich Park.
X-ALT-DESC;FMTTYPE=text/html:Get ready to watch the Triad&#39\;s most exciting team! Watch the Disco Turkeys take on the Queen City Corndogs in the Mocksville Baseball Classic on Friday\, June 6\, at 6:30 PM at Mando Field at Rich Park.
LOCATION:Mando Baseball Field at Rich Park
UID:e.2378.27303
SEQUENCE:3
DTSTAMP:20260425T221241Z
URL:https://business.daviechamber.com/events/details/mocksville-baseball-classic-carolina-disco-turkeys-vs-queen-city-corndogs-27303
END:VEVENT

END:VCALENDAR
