BEGIN:VCALENDAR
VERSION:2.0
PRODID:-//ChamberMaster//Event Calendar 2.0//EN
METHOD:PUBLISH
X-PUBLISHED-TTL:P3D
REFRESH-INTERVAL:P3D
CALSCALE:GREGORIAN
BEGIN:VEVENT
DTSTART:20250607T223000Z
DTEND:20250608T010000Z
X-MICROSOFT-CDO-ALLDAYEVENT:FALSE
SUMMARY:Mocksville Baseball Classic: Carolina Disco Turkeys vs Troutman Dawgs
DESCRIPTION:Get ready to watch the Triad's most exciting team! Watch the Disco Turkeys take on the Troutman Dawgs in the second game of the Mocksville Baseball Classic on Saturday\, June 7\, at 6:30 PM at Mando Field at Rich Park.
X-ALT-DESC;FMTTYPE=text/html:Get ready to watch the Triad&#39\;s most exciting team! Watch the Disco Turkeys take on the Troutman Dawgs in the second game of the Mocksville Baseball Classic on Saturday\, June 7\, at 6:30 PM at Mando Field at Rich Park.
LOCATION:Mando Field at Rich Park
UID:e.2378.27304
SEQUENCE:3
DTSTAMP:20260425T221301Z
URL:https://business.daviechamber.com/events/details/mocksville-baseball-classic-carolina-disco-turkeys-vs-troutman-dawgs-27304
END:VEVENT

END:VCALENDAR
