BEGIN:VCALENDAR
VERSION:2.0
PRODID:-//ChamberMaster//Event Calendar 2.0//EN
METHOD:PUBLISH
X-PUBLISHED-TTL:P3D
REFRESH-INTERVAL:P3D
CALSCALE:GREGORIAN
BEGIN:VEVENT
DTSTART:20190502T213000Z
DTEND:20190502T223000Z
X-MICROSOFT-CDO-ALLDAYEVENT:FALSE
SUMMARY:Mocksville Comprehensive Plan Community Meeting
DESCRIPTION:All are welcome to attend a Mocksville Community Meeting to discuss Mocksville's comprehensive plan for the coming years. This meeting is open to anyone who would like to voice their opinions about our town's future and anyone who has an interest in improving our community. Discussions and comments are welcome.\n\n\n\nFor additional information\, contact Matt Settlemyer\, Mocksville Town Manager at 336.751.6701 or msettlemyer@mocksvillenc.gov
X-ALT-DESC;FMTTYPE=text/html:All are welcome to attend a Mocksville Community Meeting to discuss Mocksville&#39\;s comprehensive plan for the coming years. This meeting is open to anyone who would like to voice their opinions about our town&#39\;s future and anyone who has an interest in improving our community. Discussions and comments are welcome.<br />\n<br />\nFor additional information\, contact Matt Settlemyer\, Mocksville Town Manager at 336.751.6701 or msettlemyer@mocksvillenc.gov
LOCATION:EnergyUnited Education Building 201 S. Salisbury St. Mocksville (Next door to the Davie County Chamber of Commerce)
UID:e.2378.15728
SEQUENCE:3
DTSTAMP:20260419T141427Z
URL:https://business.daviechamber.com/events/details/mocksville-comprehensive-plan-community-meeting-15728
END:VEVENT

END:VCALENDAR
