BEGIN:VCALENDAR
VERSION:2.0
PRODID:-//ChamberMaster//Event Calendar 2.0//EN
METHOD:PUBLISH
X-PUBLISHED-TTL:P3D
REFRESH-INTERVAL:P3D
CALSCALE:GREGORIAN
BEGIN:VEVENT
DTSTART:20230821T210000Z
DTEND:20230822T000000Z
X-MICROSOFT-CDO-ALLDAYEVENT:FALSE
SUMMARY:Mocksville Cruise-In
DESCRIPTION:Come to the Downtown Mocksville cruise-in!! We hope to have a big crowd. See y'all there!
X-ALT-DESC;FMTTYPE=text/html:<span style="font-size:18px\;"><span style="font-family:tahoma\;"><span style="color:#333333\;"><span class="d2edcug0 hpfvmrgz qv66sw1b c1et5uql lr9zc1uh a8c37x1j fe6kdd0r mau55g9w c8b282yb keod5gw0 nxhoafnm aigsh9s9 d3f4x2em iv3no6db jq4qci2q a3bd9o3v b1v8xokw oo9gr5id" dir="auto">Come to the Downtown Mocksville cruise-in!! We hope to have a big crowd. See y&rsquo\;all there!</span></span></span></span>
LOCATION:Downtown Mocksville
UID:e.2378.23151
SEQUENCE:3
DTSTAMP:20260425T201602Z
URL:https://business.daviechamber.com/events/details/mocksville-cruise-in-23151
END:VEVENT

END:VCALENDAR
