BEGIN:VCALENDAR
VERSION:2.0
PRODID:-//ChamberMaster//Event Calendar 2.0//EN
METHOD:PUBLISH
X-PUBLISHED-TTL:P3D
REFRESH-INTERVAL:P3D
CALSCALE:GREGORIAN
BEGIN:VEVENT
DTSTART:20250421T210000Z
DTEND:20250422T000000Z
X-MICROSOFT-CDO-ALLDAYEVENT:FALSE
SUMMARY:Mocksville Cruise-In Hosted by DC Cruisers - Rescheduled Due to Weather
DESCRIPTION:The Mocksville Cruise-In is Back! The Cruise-In meets April-October on the first Monday of every month from 5-8 p.m. in Downtown Mocksville. This event is hosted by the non-profit DC Cruisers. Follow their Facebook page for regular updates\, and check back here for more Mocksville event information!
X-ALT-DESC;FMTTYPE=text/html:<span style="font-size:18px\;"><span style="font-family:tahoma\;"><span style="color:#000000\;">The Mocksville Cruise-In is Back! The Cruise-In meets April-October on the first Monday of every month from 5-8 p.m. in Downtown Mocksville. This event is hosted by the non-profit DC Cruisers. Follow their Facebook page for regular updates\, and check back here for more Mocksville event information!&nbsp\;</span></span></span>
LOCATION:Downtown Mocksville
UID:e.2378.25365
SEQUENCE:3
DTSTAMP:20260426T021822Z
URL:https://business.daviechamber.com/events/details/mocksville-cruise-in-hosted-by-dc-cruisers-rescheduled-due-to-weather-25365
END:VEVENT

END:VCALENDAR
