BEGIN:VCALENDAR
VERSION:2.0
PRODID:-//ChamberMaster//Event Calendar 2.0//EN
METHOD:PUBLISH
X-PUBLISHED-TTL:P3D
REFRESH-INTERVAL:P3D
CALSCALE:GREGORIAN
BEGIN:VEVENT
DTSTART:20151022T220000Z
DTEND:20151023T010000Z
X-MICROSOFT-CDO-ALLDAYEVENT:FALSE
SUMMARY:Mocksville Rotary Club Community Benefit Dinner
DESCRIPTION:Your donation is working through the Rotary Club of Mocksville to make a difference!\n\nWin cash prizes! $5\,000| $2\,500| $1\,000| $500| $500\n\nAdditional raffles throughout the evening!\n\nYou DO NOT have to be present to win!\n\n\n\nCASH BAR AVAILABLE
X-ALT-DESC;FMTTYPE=text/html:Your donation is working through the Rotary Club of Mocksville to make a difference!<br />\nWin cash prizes! $5\,000| $2\,500| $1\,000| $500| $500<br />\nAdditional raffles throughout the evening!<br />\nYou DO NOT have to be present to win!<br />\n<br />\nCASH BAR AVAILABLE
LOCATION:Bermuda Run Country Club 324 Bermuda Run Dr\, Advance\, NC 27006
UID:e.2378.4106
SEQUENCE:3
DTSTAMP:20260423T110808Z
URL:https://business.daviechamber.com/events/details/mocksville-rotary-club-community-benefit-dinner-10-22-2015-4106
END:VEVENT

END:VCALENDAR
