BEGIN:VCALENDAR
VERSION:2.0
PRODID:-//ChamberMaster//Event Calendar 2.0//EN
METHOD:PUBLISH
X-PUBLISHED-TTL:P3D
REFRESH-INTERVAL:P3D
CALSCALE:GREGORIAN
BEGIN:VEVENT
DTSTART:20250405T120000Z
DTEND:20250405T160000Z
X-MICROSOFT-CDO-ALLDAYEVENT:FALSE
SUMMARY:Mocksville Spring Clean Up Day
DESCRIPTION:The annual Spring Clean Up Day for Town of Mocksville residents is Saturday\, April 5\, 2025\, from 8 a.m. to noon at Rich Park.\n\nFree disposal of furniture\, appliances\, old lumber\, metal\, other miscellaneous items\, tires off the rim\, etc. (There will be a limit of four tires per address.)\n\nNO ELECTRONICS\n\nNO PAINT\, PESTICIDES\, OR CHEMICALS OF ANY TYPE WILL BE ACCEPTED.\n\nPlease note: Latex paint may be mixed with cat litter or sand to dry. Cans less than a quarter full may be put in with regular garbage.
X-ALT-DESC;FMTTYPE=text/html:<div class="xdj266r x11i5rnm xat24cr x1mh8g0r x1vvkbs" style="margin: 0px\; overflow-wrap: break-word\; font-family: &quot\;Segoe UI Historic&quot\;\, &quot\;Segoe UI&quot\;\, Helvetica\, Arial\, sans-serif\; color: rgb(8\, 8\, 9)\; font-size: 15px\;"><span style="font-size:18px\;"><span style="font-family:tahoma\;"><span style="color:#000000\;">The annual Spring Clean Up Day for Town of Mocksville residents is Saturday\, April 5\, 2025\, from 8 a.m. to noon at Rich Park.</span></span></span></div>\n\n<div class="x11i5rnm xat24cr x1mh8g0r x1vvkbs xtlvy1s" style="margin: 0.5em 0px 0px\; overflow-wrap: break-word\; font-family: &quot\;Segoe UI Historic&quot\;\, &quot\;Segoe UI&quot\;\, Helvetica\, Arial\, sans-serif\; color: rgb(8\, 8\, 9)\; font-size: 15px\;"><span style="font-size:18px\;"><span style="font-family:tahoma\;"><span style="color:#000000\;">Free disposal of furniture\, appliances\, old lumber\, metal\, other miscellaneous items\, tires off the rim\, etc. (There will be a limit of four tires per address.)</span></span></span></div>\n\n<div class="x11i5rnm xat24cr x1mh8g0r x1vvkbs xtlvy1s" style="margin: 0.5em 0px 0px\; overflow-wrap: break-word\; font-family: &quot\;Segoe UI Historic&quot\;\, &quot\;Segoe UI&quot\;\, Helvetica\, Arial\, sans-serif\; color: rgb(8\, 8\, 9)\; font-size: 15px\;"><span style="font-size:18px\;"><span style="font-family:tahoma\;"><span style="color:#000000\;">NO ELECTRONICS<br class="html-br" />\nNO PAINT\, PESTICIDES\, OR CHEMICALS OF ANY TYPE WILL BE ACCEPTED.</span></span></span></div>\n\n<div class="x11i5rnm xat24cr x1mh8g0r x1vvkbs xtlvy1s" style="margin: 0.5em 0px 0px\; overflow-wrap: break-word\; font-family: &quot\;Segoe UI Historic&quot\;\, &quot\;Segoe UI&quot\;\, Helvetica\, Arial\, sans-serif\; color: rgb(8\, 8\, 9)\; font-size: 15px\;"><span style="font-size:18px\;"><span style="font-family:tahoma\;"><span style="color:#000000\;">Please note: Latex paint may be mixed with cat litter or sand to dry. Cans less than a quarter full may be put in with regular garbage.</span></span></span></div>\n
LOCATION:Rich Park
UID:e.2378.25521
SEQUENCE:3
DTSTAMP:20260425T232441Z
URL:https://business.daviechamber.com/events/details/mocksville-spring-clean-up-day-25521
END:VEVENT

END:VCALENDAR
