BEGIN:VCALENDAR
VERSION:2.0
PRODID:-//ChamberMaster//Event Calendar 2.0//EN
METHOD:PUBLISH
X-PUBLISHED-TTL:P3D
REFRESH-INTERVAL:P3D
CALSCALE:GREGORIAN
BEGIN:VEVENT
DTSTART:20230507T180000Z
DTEND:20230507T200000Z
X-MICROSOFT-CDO-ALLDAYEVENT:FALSE
SUMMARY:Mom-osas sip & shop
DESCRIPTION:Mimosas & treats!\n\nSpecial discounts and giveaways too. Everyone is invited so bring a friend.
X-ALT-DESC;FMTTYPE=text/html:<span style="font-size:16px\;"><span style="font-family:tahoma\;">Mimosas &amp\; treats!<br style="color: rgb(5\, 5\, 5)\; font-family: &quot\;Segoe UI Historic&quot\;\, &quot\;Segoe UI&quot\;\, Helvetica\, Arial\, sans-serif\; font-size: 15px\;" />\nSpecial discounts and giveaways too. Everyone is invited so bring a friend.</span></span>
LOCATION:Southern Ties Boutique
UID:e.2378.22914
SEQUENCE:3
DTSTAMP:20260424T130134Z
URL:https://business.daviechamber.com/events/details/mom-osas-sip-shop-22914
END:VEVENT

END:VCALENDAR
