BEGIN:VCALENDAR
VERSION:2.0
PRODID:-//ChamberMaster//Event Calendar 2.0//EN
METHOD:PUBLISH
X-PUBLISHED-TTL:P3D
REFRESH-INTERVAL:P3D
CALSCALE:GREGORIAN
BEGIN:VEVENT
DTSTART:20230725T001500Z
DTEND:20230725T020000Z
X-MICROSOFT-CDO-ALLDAYEVENT:FALSE
SUMMARY:Movie Night to Colebrate Andy's Foundation For Kids with Special Needs
DESCRIPTION:Bring your own chair.\n\nRegular Menu Items\, Snow Cones\, & Popcorn will be Available for Purchase.\n\nWe will also be taking donations for the event and portion will be going to Andy's Foundation.
X-ALT-DESC;FMTTYPE=text/html:<span style="font-size:18px\;"><span style="color:#666666\;">Bring your own chair.<br />\nRegular Menu Items\, Snow Cones\, &amp\; Popcorn will be Available for Purchase.<br />\nWe will also be taking donations for the event and portion will be going to Andy&#39\;s Foundation.</span></span>
LOCATION:Hwy 55 Burgers & Fries
UID:e.2378.23102
SEQUENCE:3
DTSTAMP:20260425T215303Z
URL:https://business.daviechamber.com/events/details/movie-night-to-colebrate-andy-s-foundation-for-kids-with-special-needs-23102
END:VEVENT

END:VCALENDAR
