BEGIN:VCALENDAR
VERSION:2.0
PRODID:-//ChamberMaster//Event Calendar 2.0//EN
METHOD:PUBLISH
X-PUBLISHED-TTL:P3D
REFRESH-INTERVAL:P3D
CALSCALE:GREGORIAN
BEGIN:VEVENT
DTSTART:20230819T003000Z
DTEND:20230819T021500Z
X-MICROSOFT-CDO-ALLDAYEVENT:FALSE
SUMMARY:Movies in the Park - Featuring DC League of Super-Pets
DESCRIPTION:Last Movie of the Year....DC League of Superpets. this is a wonderful movie for the WHOLE family to enjoy. Movie has a PG Rating and Movie Play time is 1.46. Movies in the Park at 192 N. Main St.\, MAIN STREET PARK. Bring your own chair or blanket for seating. Children must be accompanied by a parent or guardian. Movie is FREE
X-ALT-DESC;FMTTYPE=text/html:Last Movie of the Year....DC League of Superpets. this is a wonderful movie for the WHOLE family to enjoy. Movie has a PG Rating and Movie Play time is 1.46. Movies in the Park at 192 N. Main St.\, MAIN STREET PARK. Bring your own chair or blanket for seating. Children must be accompanied by a parent or guardian. Movie is FREE
LOCATION:Main St. Park 192 N. Main St. Mocksville
UID:e.2378.22513
SEQUENCE:3
DTSTAMP:20260425T215334Z
URL:https://business.daviechamber.com/events/details/movies-in-the-park-featuring-dc-league-of-super-pets-22513
END:VEVENT

END:VCALENDAR
