BEGIN:VCALENDAR
VERSION:2.0
PRODID:-//ChamberMaster//Event Calendar 2.0//EN
METHOD:PUBLISH
X-PUBLISHED-TTL:P3D
REFRESH-INTERVAL:P3D
CALSCALE:GREGORIAN
BEGIN:VEVENT
DTSTART:20230722T003000Z
DTEND:20230722T021500Z
X-MICROSOFT-CDO-ALLDAYEVENT:FALSE
SUMMARY:Movies in the Park - Featuring Puss in Boots - The Last Wish
DESCRIPTION:Enjoy a FREE Movie at Main St.. Park Downtown Mocksville on Friday\, July 21 at 8:30 p.m. Main St. Park located at 192 N. Main St. Puss in Boots The Last Wish PG Rating 1.42 Movie Play Time Bring Your Own Chair or Blanket for Seating All children must be accompanied by a Parent or Guardian\, Please.
X-ALT-DESC;FMTTYPE=text/html:Enjoy a FREE Movie at Main St.. Park Downtown Mocksville on Friday\, July 21 at 8:30 p.m. Main St. Park located at 192 N. Main St. Puss in Boots The Last Wish PG Rating 1.42 Movie Play Time Bring Your Own Chair or Blanket for Seating All children must be accompanied by a Parent or Guardian\, Please.
LOCATION:Main St. Park 192 N. Main St. Mocksville
UID:e.2378.22512
SEQUENCE:3
DTSTAMP:20260425T215317Z
URL:https://business.daviechamber.com/events/details/movies-in-the-park-featuring-puss-in-boots-the-last-wish-22512
END:VEVENT

END:VCALENDAR
