BEGIN:VCALENDAR
VERSION:2.0
PRODID:-//ChamberMaster//Event Calendar 2.0//EN
METHOD:PUBLISH
X-PUBLISHED-TTL:P3D
REFRESH-INTERVAL:P3D
CALSCALE:GREGORIAN
BEGIN:VEVENT
DTSTART:20260119T233000Z
DTEND:20260120T013000Z
X-MICROSOFT-CDO-ALLDAYEVENT:FALSE
SUMMARY:Murder Mystery Monday
DESCRIPTION:Step into a world of secrets\, suspects\, and suspense at our Murder Mystery Game Night at Scoops on Main!\n\nPut your detective skills to the test as we work together to solve a thrilling case filled with twists\, clues\, and unexpected turns.\n\nWhether you're a true-crime fan or just love a good puzzle\, this interactive game night promises plenty of intrigue\, laughs\, and friendly competition.\n\nNo experience needed just bring your curiosity and sharp instincts.\n\nWhat to Expect:\n\n  An immersive murder mystery game\n\n  Group collaboration and clue-solving\n\n  A fun\, social evening full of surprises\n\nRecommended for ages 15 and up.\n\nThink you can crack the case? Join us and find out!
X-ALT-DESC;FMTTYPE=text/html:<p style="box-sizing: border-box\; margin: 0px 0px 20px\; padding: 0px 0px 1em\; border: 0px\; outline: 0px\; font-size: 14px\; text-size-adjust: 100%\; vertical-align: baseline\; background-image: initial\; background-position: initial\; background-size: initial\; background-repeat: initial\; background-attachment: initial\; background-origin: initial\; background-clip: initial\; color: rgb(97\, 97\, 97)\; line-height: 1.8\; font-family: &quot\;Alegreya Sans&quot\;\, Helvetica\, Arial\, Lucida\, sans-serif\;"><span style="font-size:12px\;"><span style="font-family:arial\;">Step into a world of secrets\, suspects\, and suspense at our&nbsp\;<a href="https://www.facebook.com/events/879803041659128" style="box-sizing: border-box\; margin: 0px\; padding: 0px\; border: 0px\; outline: 0px\; text-size-adjust: 100%\; vertical-align: baseline\; background: transparent\; color: rgb(6\, 148\, 200)\; text-decoration-line: none\;">Murder Mystery Game Night</a>&nbsp\;at&nbsp\;<a href="https://www.facebook.com/profile.php?id=100057635131360&amp\;sk=events" style="box-sizing: border-box\; margin: 0px\; padding: 0px\; border: 0px\; outline: 0px\; text-size-adjust: 100%\; vertical-align: baseline\; background: transparent\; color: rgb(6\, 148\, 200)\; text-decoration-line: none\;">Scoops on Main</a>!<br />\nPut your detective skills to the test as we work together to solve a thrilling case filled with twists\, clues\, and unexpected turns.</span></span><br />\n<span style="font-size:12px\;"><span style="font-family:arial\;">Whether you&rsquo\;re a true-crime fan or just love a good puzzle\, this interactive game night promises plenty of intrigue\, laughs\, and friendly competition.<br />\nNo experience needed&mdash\;just bring your curiosity and sharp instincts.</span></span><br />\n<span style="font-size:12px\;"><span style="font-family:arial\;">What to Expect:<br style="box-sizing: border-box\;" />\n&bull\; An immersive murder mystery game<br style="box-sizing: border-box\;" />\n&bull\; Group collaboration and clue-solving<br style="box-sizing: border-box\;" />\n&bull\; A fun\, social evening full of surprises</span></span><br />\n<span style="font-size:12px\;"><span style="font-family:arial\;">Recommended for ages 15 and up.<br style="box-sizing: border-box\;" />\nThink you can crack the case? Join us and find out!</span></span></p>\n
LOCATION:
UID:e.2378.29308
SEQUENCE:3
DTSTAMP:20260424T133448Z
URL:https://business.daviechamber.com/events/details/murder-mystery-monday-29308
END:VEVENT

END:VCALENDAR
