BEGIN:VCALENDAR
VERSION:2.0
PRODID:-//ChamberMaster//Event Calendar 2.0//EN
METHOD:PUBLISH
X-PUBLISHED-TTL:P3D
REFRESH-INTERVAL:P3D
CALSCALE:GREGORIAN
BEGIN:VEVENT
DTSTART:20230729T220000Z
DTEND:20230730T010000Z
X-MICROSOFT-CDO-ALLDAYEVENT:FALSE
SUMMARY:Murder Mystery "Trouble in Paradise"
DESCRIPTION:Want you join aboard a Hawaiian Cruise bound for disaster? On July 29th\, The Farmhouse at Gemini Branch will host a Murder Mystery Trouble in Paradise. Enjoy dinner\, dessert\, cash bar\, prizes\, and be sure to dress the part.\n\n\n\nRSVP only so you can get your part for the mystery - limited to 30 people.\n\n$35 per person\n\n\n\n336-909-3754
X-ALT-DESC;FMTTYPE=text/html:<span style="font-size:18px\;"><span style="font-family:tahoma\;"><span style="color:#333333\;">Want you join aboard a Hawaiian Cruise bound for disaster? On July 29th\, The Farmhouse at Gemini Branch will host a Murder Mystery Trouble in Paradise. Enjoy dinner\, dessert\, cash bar\, prizes\, and be sure to dress the part.<br />\n<br />\nRSVP only so you can get your part for the mystery - limited to 30 people.<br />\n$35 per person<br />\n<br />\n336-909-3754</span></span></span><br />\n&nbsp\;
LOCATION:
UID:e.2378.22969
SEQUENCE:3
DTSTAMP:20260425T214931Z
URL:https://business.daviechamber.com/events/details/murder-mystery-trouble-in-paradise-22969
END:VEVENT

END:VCALENDAR
