BEGIN:VCALENDAR
VERSION:2.0
PRODID:-//ChamberMaster//Event Calendar 2.0//EN
METHOD:PUBLISH
X-PUBLISHED-TTL:P3D
REFRESH-INTERVAL:P3D
CALSCALE:GREGORIAN
BEGIN:VEVENT
DTSTART:20230720T223000Z
DTEND:20230721T013000Z
X-MICROSOFT-CDO-ALLDAYEVENT:FALSE
SUMMARY:Music by Anna Mertson at O'Callahans
DESCRIPTION:Singer song writer Anna Mertson will be joining us for an evening of music. Anna has an amazing voice and a personality sure to make you smile being in her presence. Mark your calendars as you don't want to miss this!
X-ALT-DESC;FMTTYPE=text/html:<span style="color:#666666\;"><span style="font-size:18px\;"><span style="font-family:tahoma\;">Singer song writer Anna Mertson will be joining us for an evening of music. Anna has an amazing voice and a personality sure to make you smile being in her presence. Mark your calendars as you don&#39\;t want to miss this!</span></span></span>
LOCATION:O'Callahans
UID:e.2378.23083
SEQUENCE:3
DTSTAMP:20260425T230352Z
URL:https://business.daviechamber.com/events/details/music-by-anna-mertson-at-o-callahans-23083
END:VEVENT

END:VCALENDAR
