BEGIN:VCALENDAR
VERSION:2.0
PRODID:-//ChamberMaster//Event Calendar 2.0//EN
METHOD:PUBLISH
X-PUBLISHED-TTL:P3D
REFRESH-INTERVAL:P3D
CALSCALE:GREGORIAN
BEGIN:VEVENT
DTSTART:20230514T180000Z
DTEND:20230514T200000Z
X-MICROSOFT-CDO-ALLDAYEVENT:FALSE
SUMMARY:Music For Baby Boomers at The Station
DESCRIPTION:First time for Music For Baby Boomers at The Station!
X-ALT-DESC;FMTTYPE=text/html:<span style="font-size:16px\;"><span style="font-family:tahoma\;"><span style="color:#000000\;">First time for Music For Baby Boomers at The Station!</span></span></span>&nbsp\;&nbsp\;&nbsp\;&nbsp\;
LOCATION:The Station
UID:e.2378.22926
SEQUENCE:3
DTSTAMP:20260424T131612Z
URL:https://business.daviechamber.com/events/details/music-for-baby-boomers-at-the-station-22926
END:VEVENT

END:VCALENDAR
