BEGIN:VCALENDAR
VERSION:2.0
PRODID:-//ChamberMaster//Event Calendar 2.0//EN
METHOD:PUBLISH
X-PUBLISHED-TTL:P3D
REFRESH-INTERVAL:P3D
CALSCALE:GREGORIAN
BEGIN:VEVENT
DTSTART:20171028T160000Z
DTEND:20171028T213000Z
X-MICROSOFT-CDO-ALLDAYEVENT:FALSE
SUMMARY:Music & Howl-o-Ween Rottie Adoption at Misty Creek Vineyard
DESCRIPTION:The wonderful Kollards will be performing their music from 2-4 p.m. The Adopt-A-Rottie group will be onsite from 12-5:30 with dogs for your petting pleasure. We will have snack trays available for purchase to enjoy with our award winning wines.
X-ALT-DESC;FMTTYPE=text/html:The wonderful Kollards will be performing their music from 2-4 p.m. The Adopt-A-Rottie group will be onsite from 12-5:30 with dogs for your petting pleasure. We will have snack trays available for purchase to enjoy with our award winning wines.
LOCATION:Misty Creek Vineyard 710 Wyo Road Mocksville\, NC 27028
UID:e.2378.13273
SEQUENCE:3
DTSTAMP:20260422T013305Z
URL:https://business.daviechamber.com/events/details/music-howl-o-ween-rottie-adoption-at-misty-creek-vineyard-13273
END:VEVENT

END:VCALENDAR
