BEGIN:VCALENDAR
VERSION:2.0
PRODID:-//ChamberMaster//Event Calendar 2.0//EN
METHOD:PUBLISH
X-PUBLISHED-TTL:P3D
REFRESH-INTERVAL:P3D
CALSCALE:GREGORIAN
BEGIN:VEVENT
DTSTART:20230729T160000Z
DTEND:20230729T200000Z
X-MICROSOFT-CDO-ALLDAYEVENT:FALSE
SUMMARY:Music in the Vineyard -Corky McClellan
DESCRIPTION:Join us for an afternoon sipping on some wine while enjoying live music by Corky Jams\, and food for purchase from Cheez Boss from 12:00 PM-4:00 PM.\n\nMusic is complimentary and open to the public.\n\nFeel free to bring a lawn chair! NO outside alcohol\, food\, coolers\, balls\, scooters\, or bicycles are permitted. Rain or Shine.
X-ALT-DESC;FMTTYPE=text/html:<div class="xdj266r x11i5rnm xat24cr x1mh8g0r x1vvkbs" style="margin: 0px\; overflow-wrap: break-word\; font-family: &quot\;Segoe UI Historic&quot\;\, &quot\;Segoe UI&quot\;\, Helvetica\, Arial\, sans-serif\; color: rgb(5\, 5\, 5)\; font-size: 15px\;"><span style="font-size:16px\;"><span style="font-family:tahoma\;"><span style="color:#333333\;">Join us for an afternoon sipping on some wine while enjoying live music by Corky Jams\, and food for purchase from Cheez Boss from 12:00 PM-4:00 PM.</span></span></span></div>\n\n<div class="x11i5rnm xat24cr x1mh8g0r x1vvkbs xtlvy1s" style="margin: 0.5em 0px 0px\; overflow-wrap: break-word\; font-family: &quot\;Segoe UI Historic&quot\;\, &quot\;Segoe UI&quot\;\, Helvetica\, Arial\, sans-serif\; color: rgb(5\, 5\, 5)\; font-size: 15px\;"><span style="font-size:16px\;"><span style="font-family:tahoma\;"><span style="color:#333333\;">Music is complimentary and open to the public.<br />\nFeel free to bring a lawn chair! NO outside alcohol\, food\, coolers\, balls\, scooters\, or bicycles are permitted. Rain or Shine.&nbsp\;</span></span></span></div>\n
LOCATION:RayLen Vineyards & Winery
UID:e.2378.23120
SEQUENCE:3
DTSTAMP:20260425T214931Z
URL:https://business.daviechamber.com/events/details/music-in-the-vineyard-corky-mcclellan-23120
END:VEVENT

END:VCALENDAR
