BEGIN:VCALENDAR
VERSION:2.0
PRODID:-//ChamberMaster//Event Calendar 2.0//EN
METHOD:PUBLISH
X-PUBLISHED-TTL:P3D
REFRESH-INTERVAL:P3D
CALSCALE:GREGORIAN
BEGIN:VEVENT
DTSTART:20230819T160000Z
DTEND:20230819T200000Z
X-MICROSOFT-CDO-ALLDAYEVENT:FALSE
SUMMARY:Music in the Vineyard feat Tyler Millard
DESCRIPTION:Join us for an afternoon sipping on some wine while enjoying live music by Tyler Millard and food for purchase from Bearded BBQ from 12pm-4pm.\n\nMusic is complimentary and open to the public. Feel free to bring a lawn chair!\n\nNO outside alcohol\, coolers\, balls\, scooters\, or bicycles are permitted. Rain or Shine.
X-ALT-DESC;FMTTYPE=text/html:<div class="xdj266r x11i5rnm xat24cr x1mh8g0r x1vvkbs" style="margin: 0px\; overflow-wrap: break-word\; font-family: &quot\;Segoe UI Historic&quot\;\, &quot\;Segoe UI&quot\;\, Helvetica\, Arial\, sans-serif\; color: rgb(5\, 5\, 5)\; font-size: 15px\;"><span style="font-size:18px\;"><span style="font-family:tahoma\;"><span style="color:#333333\;">Join us for an afternoon sipping on some wine while enjoying live music by Tyler Millard and food for purchase from Bearded BBQ from 12pm-4pm.</span></span></span></div>\n\n<div class="x11i5rnm xat24cr x1mh8g0r x1vvkbs xtlvy1s" style="margin: 0.5em 0px 0px\; overflow-wrap: break-word\; font-family: &quot\;Segoe UI Historic&quot\;\, &quot\;Segoe UI&quot\;\, Helvetica\, Arial\, sans-serif\; color: rgb(5\, 5\, 5)\; font-size: 15px\;"><span style="font-size:18px\;"><span style="font-family:tahoma\;"><span style="color:#333333\;">Music is complimentary and open to the public. Feel free to bring a lawn chair!<br />\nNO outside alcohol\, coolers\, balls\, scooters\, or bicycles are permitted. Rain or Shine.&nbsp\;&nbsp\;&nbsp\;&nbsp\;&nbsp\;</span></span></span></div>\n
LOCATION:RayLen Vineyards & Winery
UID:e.2378.23179
SEQUENCE:3
DTSTAMP:20260425T215110Z
URL:https://business.daviechamber.com/events/details/music-in-the-vineyard-feat-tyler-millard-23179
END:VEVENT

END:VCALENDAR
