BEGIN:VCALENDAR
VERSION:2.0
PRODID:-//ChamberMaster//Event Calendar 2.0//EN
METHOD:PUBLISH
X-PUBLISHED-TTL:P3D
REFRESH-INTERVAL:P3D
CALSCALE:GREGORIAN
BEGIN:VEVENT
DTSTART:20230824T223000Z
DTEND:20230825T013000Z
X-MICROSOFT-CDO-ALLDAYEVENT:FALSE
SUMMARY:Music Presented by Casey and Jacob
DESCRIPTION:Love classic country\, rock and pop? Mark your calendars then\, as you don't want to miss these guys!
X-ALT-DESC;FMTTYPE=text/html:<span style="font-size:18px\;"><span style="font-family:tahoma\;"><span style="color:#333333\;">Love classic country\, rock and pop? Mark your calendars then\, as you don&rsquo\;t want to miss these guys!</span></span></span>
LOCATION:O'Callahans
UID:e.2378.23190
SEQUENCE:3
DTSTAMP:20260425T201446Z
URL:https://business.daviechamber.com/events/details/music-presented-by-casey-and-jacob-23190
END:VEVENT

END:VCALENDAR
