BEGIN:VCALENDAR
VERSION:2.0
PRODID:-//ChamberMaster//Event Calendar 2.0//EN
METHOD:PUBLISH
X-PUBLISHED-TTL:P3D
REFRESH-INTERVAL:P3D
CALSCALE:GREGORIAN
BEGIN:VEVENT
DTSTART:20160604T010000Z
DTEND:20160604T020000Z
X-MICROSOFT-CDO-ALLDAYEVENT:FALSE
SUMMARY:Mysteries at the Museum
DESCRIPTION:Davie County will be featured on Mysteries at the Museum on the Travel Channel Thursday evening. A film crew spent the day here in the library's history room last August\, documenting the story of the James Chaffin will.
X-ALT-DESC;FMTTYPE=text/html:Davie County will be featured on Mysteries at the Museum on the Travel Channel Thursday evening. A film crew spent the day here in the library&rsquo\;s history room last August\, documenting the story of the James Chaffin will.
LOCATION:Travel Channel
UID:e.2378.5475
SEQUENCE:3
DTSTAMP:20260421T193633Z
URL:https://business.daviechamber.com/events/details/mysteries-at-the-museum-06-03-2016-5475
END:VEVENT

END:VCALENDAR
