BEGIN:VCALENDAR
VERSION:2.0
PRODID:-//ChamberMaster//Event Calendar 2.0//EN
METHOD:PUBLISH
X-PUBLISHED-TTL:P3D
REFRESH-INTERVAL:P3D
CALSCALE:GREGORIAN
BEGIN:VEVENT
DTSTART:20230727T223000Z
DTEND:20230728T003000Z
X-MICROSOFT-CDO-ALLDAYEVENT:FALSE
SUMMARY:Name That Tune at The Station General Store & Taproom
DESCRIPTION:Name That Tune is now happening EVERY 2nd & 4th THURSDAY at The Station General Store and Taproom! It begins at 6:30pm and runs to 8:30pm just like Trivia Night!\n\nEach week there will be two announced themes and a third mystery theme where you have to guess the common theme! You can get one point for knowing the band or artist the song is credited to\, one point for knowing the song title\, and TWO POINTS if you know both! There is also a trivia question at the end of each round related in some way to one of the musicians from that round!\n\nJuly 27th the categories are Country Music and Bands With Color In Their Name (and of COURSE our mystery theme where you have to guess something the songs have in common)!\n\nStay tuned to our page for announcements on Category Themes or Food Truck Info!\n\nIt's a lot of fun and we hope you'll join us each week at The Station for Trivia or Name That Tune!!
X-ALT-DESC;FMTTYPE=text/html:<div class="xdj266r x11i5rnm xat24cr x1mh8g0r x1vvkbs" style="margin: 0px\; overflow-wrap: break-word\; font-family: &quot\;Segoe UI Historic&quot\;\, &quot\;Segoe UI&quot\;\, Helvetica\, Arial\, sans-serif\; color: rgb(5\, 5\, 5)\; font-size: 15px\;">\n<div class="xdj266r x11i5rnm xat24cr x1mh8g0r x1vvkbs" style="margin: 0px\; overflow-wrap: break-word\; font-family: &quot\;Segoe UI Historic&quot\;\, &quot\;Segoe UI&quot\;\, Helvetica\, Arial\, sans-serif\; color: rgb(5\, 5\, 5)\; font-size: 15px\;"><span style="font-size:18px\;"><span style="font-family:tahoma\;"><span style="color:#333333\;">Name That Tune is now happening EVERY 2nd &amp\; 4th THURSDAY at The Station General Store and Taproom! It begins at 6:30pm and runs to 8:30pm just like Trivia Night!</span></span></span></div>\n\n<div class="x11i5rnm xat24cr x1mh8g0r x1vvkbs xtlvy1s" style="margin: 0.5em 0px 0px\; overflow-wrap: break-word\; font-family: &quot\;Segoe UI Historic&quot\;\, &quot\;Segoe UI&quot\;\, Helvetica\, Arial\, sans-serif\; color: rgb(5\, 5\, 5)\; font-size: 15px\;"><span style="font-size:18px\;"><span style="font-family:tahoma\;"><span style="color:#333333\;">Each week there will be two announced themes and a third mystery theme where you have to guess the common theme! You can get one point for knowing the band or artist the song is credited to\, one point for knowing the song title\, and TWO POINTS if you know both! There is also a trivia question at the end of each round related in some way to one of the musicians from that round!</span></span></span></div>\n\n<div class="x11i5rnm xat24cr x1mh8g0r x1vvkbs xtlvy1s" style="margin: 0.5em 0px 0px\; overflow-wrap: break-word\; font-family: &quot\;Segoe UI Historic&quot\;\, &quot\;Segoe UI&quot\;\, Helvetica\, Arial\, sans-serif\; color: rgb(5\, 5\, 5)\; font-size: 15px\;"><span style="font-size:18px\;"><span style="font-family:tahoma\;"><span style="color:#333333\;">July 27th the&nbsp\;categories are Country Music and Bands With Color In Their Name (and of COURSE our mystery theme where you have to guess something the songs have in common)!</span></span></span></div>\n\n<div class="x11i5rnm xat24cr x1mh8g0r x1vvkbs xtlvy1s" style="margin: 0.5em 0px 0px\; overflow-wrap: break-word\; font-family: &quot\;Segoe UI Historic&quot\;\, &quot\;Segoe UI&quot\;\, Helvetica\, Arial\, sans-serif\; color: rgb(5\, 5\, 5)\; font-size: 15px\;"><span style="font-size:18px\;"><span style="font-family:tahoma\;"><span style="color:#333333\;">Stay tuned to our page for announcements on Category Themes or Food Truck Info!</span></span></span></div>\n\n<div class="x11i5rnm xat24cr x1mh8g0r x1vvkbs xtlvy1s" style="margin: 0.5em 0px 0px\; overflow-wrap: break-word\; font-family: &quot\;Segoe UI Historic&quot\;\, &quot\;Segoe UI&quot\;\, Helvetica\, Arial\, sans-serif\; color: rgb(5\, 5\, 5)\; font-size: 15px\;"><span style="font-size:18px\;"><span style="font-family:tahoma\;"><span style="color:#333333\;">It&#39\;s a lot of fun and we hope you&#39\;ll join us each week at The Station for Trivia or Name That Tune!!</span></span></span></div>\n</div>\n
LOCATION:The Station
UID:e.2378.23094
SEQUENCE:3
DTSTAMP:20260425T215135Z
URL:https://business.daviechamber.com/events/details/name-that-tune-at-the-station-general-store-taproom-23094
END:VEVENT

END:VCALENDAR
