BEGIN:VCALENDAR
VERSION:2.0
PRODID:-//ChamberMaster//Event Calendar 2.0//EN
METHOD:PUBLISH
X-PUBLISHED-TTL:P3D
REFRESH-INTERVAL:P3D
CALSCALE:GREGORIAN
BEGIN:VEVENT
DTSTART:20230817T170000Z
DTEND:20230817T223000Z
X-MICROSOFT-CDO-ALLDAYEVENT:FALSE
SUMMARY:National Non-Profit Day!
DESCRIPTION:Celebrate National Non-Profit Day at your favorite non-profit! Join us during our Afternoon (1:00-3:30pm) or Evening Session (4:00-6:30pm) on Thursday\, August 17th for BOGO exhibit area entry! Walk-in to take advantage of this special discount!
X-ALT-DESC;FMTTYPE=text/html:<span style="font-size:18px\;"><span style="font-family:tahoma\;"><span style="color:#333333\;">Celebrate National Non-Profit Day at your favorite non-profit! Join us during our Afternoon (1:00-3:30pm) or Evening Session (4:00-6:30pm) on Thursday\, August 17th for BOGO exhibit area entry! Walk-in to take advantage of this special discount!&nbsp\;</span></span></span>
LOCATION:Cognition Davie
UID:e.2378.23192
SEQUENCE:3
DTSTAMP:20260425T201608Z
URL:https://business.daviechamber.com/events/details/national-non-profit-day-23192
END:VEVENT

END:VCALENDAR
