BEGIN:VCALENDAR
VERSION:2.0
PRODID:-//ChamberMaster//Event Calendar 2.0//EN
METHOD:PUBLISH
X-PUBLISHED-TTL:P3D
REFRESH-INTERVAL:P3D
CALSCALE:GREGORIAN
BEGIN:VEVENT
DTSTART:20151118T000000Z
DTEND:20151118T010000Z
X-MICROSOFT-CDO-ALLDAYEVENT:FALSE
SUMMARY:Nature's Pearl Products
DESCRIPTION:Nature's Pearl Products is having an informational meeting about Premium Muscadine Products. Take this seriously and find out what is so unique about Nature's Pearl supplement. Come learn and make your own decisions. I promote you to go to www.muscadinehealthresearch.com.\n\nAny mention of Wake Forest was performed on the Nature's Pearl Brand.\n\nAll first time visitors will receive a free gift.
X-ALT-DESC;FMTTYPE=text/html:Nature&#39\;s Pearl Products is having an informational meeting about Premium Muscadine Products. Take this seriously and find out what is so unique about Nature&#39\;s Pearl supplement. Come learn and make your own decisions. I promote you to go to www.muscadinehealthresearch.com.<br />\nAny mention of Wake Forest was performed on the Nature&#39\;s Pearl Brand.<br />\nAll first time visitors will receive a free gift.
LOCATION:Hampton Inn\, Advance\, NC 27006
UID:e.2378.4298
SEQUENCE:3
DTSTAMP:20260422T055757Z
URL:https://business.daviechamber.com/events/details/nature-s-pearl-products-11-17-2015-4298
END:VEVENT

END:VCALENDAR
