BEGIN:VCALENDAR
VERSION:2.0
PRODID:-//ChamberMaster//Event Calendar 2.0//EN
METHOD:PUBLISH
X-PUBLISHED-TTL:P3D
REFRESH-INTERVAL:P3D
CALSCALE:GREGORIAN
BEGIN:VEVENT
DTSTART:20230728T123000Z
DTEND:20230728T133000Z
X-MICROSOFT-CDO-ALLDAYEVENT:FALSE
SUMMARY:New Member Coffee & Connect
DESCRIPTION:Join us for an energizing morning of networking\, learning\, and coffee!    \n\nDiscover the incredible benefits and opportunities our Chamber has to offer while connecting with like-minded individuals who are passionate about amplifying each other's businesses.\n\nWhether you're a 2022- 2023 New Member or considering joining us\, this event is designed to connect you with valuable resources\, create meaningful relationships\, and ignite your business growth.\n\nDon't miss out on this golden opportunity to sip on local coffee\, tap into the power of networking\, and unlock the door to success!
X-ALT-DESC;FMTTYPE=text/html:<span style="color:#666666\;"><span style="font-size:18px\;"><span style="font-family:tahoma\;">Join us for an energizing morning of networking\, learning\, and coffee! &#9749\;&#65039\;&#10024\;<br />\nDiscover the incredible benefits and opportunities our Chamber has to offer while connecting with like-minded individuals who are passionate about amplifying each other&rsquo\;s businesses.<br />\nWhether you&#39\;re a 2022- 2023 New Member or considering joining us\, this event is designed to connect you with valuable resources\, create meaningful relationships\, and ignite your business growth.<br />\nDon&#39\;t miss out on this golden opportunity to sip on local coffee\, tap into the power of networking\, and unlock the door to success! </span></span></span>
LOCATION:Sunset at Misty Creek
UID:e.2378.23090
SEQUENCE:3
DTSTAMP:20260425T214659Z
URL:https://business.daviechamber.com/events/details/new-member-coffee-connect-23090
END:VEVENT

END:VCALENDAR
