BEGIN:VCALENDAR
VERSION:2.0
PRODID:-//ChamberMaster//Event Calendar 2.0//EN
METHOD:PUBLISH
X-PUBLISHED-TTL:P3D
REFRESH-INTERVAL:P3D
CALSCALE:GREGORIAN
BEGIN:VEVENT
DTSTART:20230324T210000Z
DTEND:20230325T010000Z
X-MICROSOFT-CDO-ALLDAYEVENT:FALSE
SUMMARY:Night at the Museum
DESCRIPTION:Kids are invited to come explore COGNITION after hours\, while parents enjoy a night away! This fun-filled evening includes exhibit area play\, hands-on activities\, pizza\, and a movie! This is a drop-off childcare event for kids 5-12 years old.
X-ALT-DESC;FMTTYPE=text/html:<span style="caret-color: rgb(5\, 5\, 5)\; color: rgb(5\, 5\, 5)\; font-family: system-ui\, -apple-system\, BlinkMacSystemFont\, &quot\;.SFNSText-Regular&quot\;\, sans-serif\; font-size: 15px\;">Kids are invited to come explore COGNITION after hours\, while parents enjoy a night away! This fun-filled evening includes exhibit area play\, hands-on activities\, pizza\, and a movie! This is a drop-off childcare event for kids 5-12 years old.</span>
LOCATION:Cognition Davie
UID:e.2378.22817
SEQUENCE:3
DTSTAMP:20260424T091751Z
URL:https://business.daviechamber.com/events/details/night-at-the-museum-22817
END:VEVENT

END:VCALENDAR
