BEGIN:VCALENDAR
VERSION:2.0
PRODID:-//ChamberMaster//Event Calendar 2.0//EN
METHOD:PUBLISH
X-PUBLISHED-TTL:P3D
REFRESH-INTERVAL:P3D
CALSCALE:GREGORIAN
BEGIN:VEVENT
DTSTART:20160510T140000Z
DTEND:20160510T170000Z
X-MICROSOFT-CDO-ALLDAYEVENT:FALSE
SUMMARY:Northwest North Carolina Educational Job Fair
DESCRIPTION:Participating School Systems may include:\n\n	Alexander\n	Alleghany\n	Ashe\n	Burke\n	Caldwell\n	Catawba\n	Davie\n	Elkin\n	Hickory\n	Mount Airy\n	Newton-Conover\n	Surry\n	Watauga\n	Wilkes\n	Winston-Salem/Forsyth\n	Yadkin
X-ALT-DESC;FMTTYPE=text/html:<br />\nParticipating School Systems may include:\n<ul>\n	<li>Alexander</li>\n	<li>Alleghany</li>\n	<li>Ashe</li>\n	<li>Burke</li>\n	<li>Caldwell</li>\n	<li>Catawba</li>\n	<li>Davie</li>\n	<li>Elkin</li>\n	<li>Hickory</li>\n	<li>Mount Airy</li>\n	<li>Newton-Conover</li>\n	<li>Surry</li>\n	<li>Watauga</li>\n	<li>Wilkes</li>\n	<li>Winston-Salem/Forsyth</li>\n	<li>Yadkin</li>\n</ul>\n
LOCATION:WinMock at Kinderton 168 E. Kinderton Way
UID:e.2378.4659
SEQUENCE:3
DTSTAMP:20260421T210439Z
URL:https://business.daviechamber.com/events/details/northwest-north-carolina-educational-job-fair-05-10-2016-4659
END:VEVENT

END:VCALENDAR
