BEGIN:VCALENDAR
VERSION:2.0
PRODID:-//ChamberMaster//Event Calendar 2.0//EN
METHOD:PUBLISH
X-PUBLISHED-TTL:P3D
REFRESH-INTERVAL:P3D
CALSCALE:GREGORIAN
BEGIN:VEVENT
DTSTART:20250628T233000Z
DTEND:20250628T233000Z
X-MICROSOFT-CDO-ALLDAYEVENT:FALSE
SUMMARY:Off The Rails | Davie County Arts Council
DESCRIPTION:Off The Rails is a powerhouse Bluegrass band from Nashville\, Tennessee\, known for their high-energy performances and top-tier musicianship. Featuring Cory Chubb\, Ben Hill\, Taylor Gerber\, Frank Evans\, Cody Bauer\, and Lucas White\, they've dominated major competitions\, winning RockyGrass\, Galax Fiddler's Convention\, and the NewSong Showcase at the Walnut Valley Festival in Winfield\, Kansas.
X-ALT-DESC;FMTTYPE=text/html:<span style="color: rgb(8\, 8\, 9)\; font-family: &quot\;Segoe UI Historic&quot\;\, &quot\;Segoe UI&quot\;\, Helvetica\, Arial\, sans-serif\; font-size: 15px\;">Off The Rails is a powerhouse Bluegrass band from Nashville\, Tennessee\, known for their high-energy performances and top-tier musicianship. Featuring Cory Chubb\, Ben Hill\, Taylor Gerber\, Frank Evans\, Cody Bauer\, and Lucas White\, they&rsquo\;ve dominated major competitions\, winning RockyGrass\, Galax Fiddler&rsquo\;s Convention\, and the NewSong Showcase at the Walnut Valley Festival in Winfield\, Kansas.</span>
LOCATION:Davie County Arts Council
UID:e.2378.27330
SEQUENCE:3
DTSTAMP:20260425T221118Z
URL:https://business.daviechamber.com/events/details/off-the-rails-davie-county-arts-council-27330
END:VEVENT

END:VCALENDAR
