BEGIN:VCALENDAR
VERSION:2.0
PRODID:-//ChamberMaster//Event Calendar 2.0//EN
METHOD:PUBLISH
X-PUBLISHED-TTL:P3D
REFRESH-INTERVAL:P3D
CALSCALE:GREGORIAN
BEGIN:VEVENT
DTSTART:20260505T150000Z
DTEND:20260505T180000Z
X-MICROSOFT-CDO-ALLDAYEVENT:FALSE
SUMMARY:Open House | Skyline National Bank
DESCRIPTION:Skyline National Bank's open house!\n\nMay 5\, 2026 | 11-2\n\n@ The branch at 119 Gaither Street\n\nWe will have the Clover point of sale devices on display and people there to demo the equipment and to answer questions.
X-ALT-DESC;FMTTYPE=text/html:Skyline National Bank&#39\;s open house!<br />\nMay 5\, 2026 | 11-2<br />\n@ The branch at 119 Gaither Street<br />\nWe will have the Clover point of sale devices on display and people there to demo the equipment and to answer questions.
LOCATION:Mocksville
UID:e.2378.30627
SEQUENCE:3
DTSTAMP:20260424T105002Z
URL:https://business.daviechamber.com/events/details/open-house-skyline-national-bank-30627
END:VEVENT

END:VCALENDAR
