BEGIN:VCALENDAR
VERSION:2.0
PRODID:-//ChamberMaster//Event Calendar 2.0//EN
METHOD:PUBLISH
X-PUBLISHED-TTL:P3D
REFRESH-INTERVAL:P3D
CALSCALE:GREGORIAN
BEGIN:VEVENT
DTSTART:20240720T160000Z
DTEND:20240720T180000Z
X-MICROSOFT-CDO-ALLDAYEVENT:FALSE
SUMMARY:Paint Your Pet Party
DESCRIPTION:Saturday.\n\nJuly 20th\n\n12-2:00 pm at The Station\n\nCome enjoy a fun afternoon of painting a wonderful portrait of your pet on an 11"x14" canvas to take home and love FURever!\n\nArt skills are not required!\n\nOur lovely talented artist\, Spencer Paige\, will be here to help youevery step of the way to ensure you'll leave with something you are proud of!\n\nSaturday\, July 20th - $55/Canvas\n\nhttps://www.howlinatthemoonbakery.com/.../paint-your-pet...
X-ALT-DESC;FMTTYPE=text/html:<div class="xdj266r x11i5rnm xat24cr x1mh8g0r x1vvkbs" style="margin: 0px\; overflow-wrap: break-word\; font-family: &quot\;Segoe UI Historic&quot\;\, &quot\;Segoe UI&quot\;\, Helvetica\, Arial\, sans-serif\; color: rgb(5\, 5\, 5)\; font-size: 15px\;"><span style="font-size:18px\;"><span style="font-family:tahoma\;"><span style="color:#000000\;">Saturday.<br class="html-br" />\nJuly 20th<br class="html-br" />\n12-2:00 pm at The Station<br class="html-br" />\nCome enjoy a fun afternoon of painting a wonderful portrait of your pet on an 11&quot\;x14&quot\; canvas to take home and love FURever!<br class="html-br" />\nArt skills are not required!<br class="html-br" />\nOur lovely talented artist\, Spencer Paige\, will be here to help youevery step of the way to ensure you&#39\;ll leave with something you are proud of!<br class="html-br" />\nSaturday\, July 20th - $55/Canvas</span></span></span></div>\n\n<div class="x11i5rnm xat24cr x1mh8g0r x1vvkbs xtlvy1s" style="margin: 0.5em 0px 0px\; overflow-wrap: break-word\; font-family: &quot\;Segoe UI Historic&quot\;\, &quot\;Segoe UI&quot\;\, Helvetica\, Arial\, sans-serif\; color: rgb(5\, 5\, 5)\; font-size: 15px\;"><span style="font-size:18px\;"><span style="font-family:tahoma\;"><a class="x1i10hfl xjbqb8w x1ejq31n xd10rxx x1sy0etr x17r0tee x972fbf xcfux6l x1qhh985 xm0m39n x9f619 x1ypdohk xt0psk2 xe8uvvx xdj266r x11i5rnm xat24cr x1mh8g0r xexx8yu x4uap5 x18d9i69 xkhd6sd x16tdsg8 x1hl2dhg xggy1nq x1a2a7pz x1sur9pj xkrqix3 x1fey0fg" href="https://www.howlinatthemoonbakery.com/event-details-registration/paint-your-pet-party-the-station-mocksville?fbclid=IwZXh0bgNhZW0CMTAAAR1MqAu1h5aoToGCX_E8ZeTFzN3wJQ11Fw54h_Nly0nxr9R1Dx9x1AL_VVs_aem_e400cl5Xwik5UvzR9vQ09w" rel="nofollow noreferrer" role="link" style="color: var(--blue-link)\; cursor: pointer\; text-decoration-line: none\; list-style: none\; margin: 0px\; text-align: inherit\; border-style: none\; padding: 0px\; border-width: 0px\; box-sizing: border-box\; outline: none\; -webkit-tap-highlight-color: transparent\; touch-action: manipulation\; background-color: transparent\; display: inline\; font-family: inherit\;" tabindex="0" target="_blank"><span style="color:#000000\;">https://www.howlinatthemoonbakery.com/.../paint-your-pet...</span></a></span></span></div>\n
LOCATION:The Station
UID:e.2378.24497
SEQUENCE:3
DTSTAMP:20260421T055241Z
URL:https://business.daviechamber.com/events/details/paint-your-pet-party-24497
END:VEVENT

END:VCALENDAR
