BEGIN:VCALENDAR
VERSION:2.0
PRODID:-//ChamberMaster//Event Calendar 2.0//EN
METHOD:PUBLISH
X-PUBLISHED-TTL:P3D
REFRESH-INTERVAL:P3D
CALSCALE:GREGORIAN
BEGIN:VEVENT
DTSTART:20171024T220000Z
DTEND:20171025T000000Z
X-MICROSOFT-CDO-ALLDAYEVENT:FALSE
SUMMARY:Pancakes for Polio
DESCRIPTION:Eat pancakes and support Rotary's quest to eradicate polio. Hosted by Carolina Bible Camp and the Mocksville Rotary Club.
X-ALT-DESC;FMTTYPE=text/html:Eat pancakes and support Rotary&#39\;s quest to eradicate polio. Hosted by Carolina Bible Camp and the Mocksville Rotary Club.
LOCATION:Carolina Bible Camp 1988 Jericho Church Road Mocksville\, North Carolina
UID:e.2378.12251
SEQUENCE:3
DTSTAMP:20260421T235632Z
URL:https://business.daviechamber.com/events/details/pancakes-for-polio-12251
END:VEVENT

END:VCALENDAR
