BEGIN:VCALENDAR
VERSION:2.0
PRODID:-//ChamberMaster//Event Calendar 2.0//EN
METHOD:PUBLISH
X-PUBLISHED-TTL:P3D
REFRESH-INTERVAL:P3D
CALSCALE:GREGORIAN
BEGIN:VEVENT
DTSTART:20170325T130000Z
DTEND:20170325T170000Z
X-MICROSOFT-CDO-ALLDAYEVENT:FALSE
SUMMARY:Parking Lot Party for Charity!
DESCRIPTION:Join the Davie Early College National Honor Society for their Parking Lot Party for Charity!\n\n\n\nSupport your community by coming out to this fun\, market-style event. You can purchase goods and services from your local businesses and other individuals from the community. There will be food/concessions\, crafts\, yard sale items\, unique gifts\, services\, & much more.\n\n\n\nProceeds go to The Dragonfly House Children's Advocacy Center and DCECHS Chapter of the National Honor Society.
X-ALT-DESC;FMTTYPE=text/html:Join the Davie Early College National Honor Society for their Parking Lot Party for Charity!<br />\n<br />\nSupport your community by coming out to this fun\, market-style event. You can purchase goods and services from your local businesses and other individuals from the community. There will be food/concessions\, crafts\, yard sale items\, unique gifts\, services\, &amp\; much more.<br />\n<br />\nProceeds go to The Dragonfly House Children&#39\;s Advocacy Center and DCECHS Chapter of the National Honor Society.
LOCATION:The DCCC Parking Lot 1211 Salisbury Road Mocksville\, NC 27028 *rain or shine\, event will be held in the Gantt Building if needed
UID:e.2378.11301
SEQUENCE:3
DTSTAMP:20260422T100003Z
URL:https://business.daviechamber.com/events/details/parking-lot-party-for-charity-11301
END:VEVENT

END:VCALENDAR
