BEGIN:VCALENDAR
VERSION:2.0
PRODID:-//ChamberMaster//Event Calendar 2.0//EN
METHOD:PUBLISH
X-PUBLISHED-TTL:P3D
REFRESH-INTERVAL:P3D
CALSCALE:GREGORIAN
BEGIN:VEVENT
DTSTART:20181112T223000Z
DTEND:20181114T023000Z
X-MICROSOFT-CDO-ALLDAYEVENT:FALSE
SUMMARY:Paws in the Park (2 nights)
DESCRIPTION:Make plans to enjoy the Festival of Lights with your family\, friends\, and pups on leash (no retractables\, please!). Vendors and food trucks will be there for eats and shopping. *Additional Night added for 2018 Paws in the Park is an important fundraiser for HSDC\, contributing monies to our rescue and adoption programs. Your ticket and donations save lives. Event Activities: -Enjoy DINNER at our food truck rodeo -Get an early start on your holiday SHOPPING with HSDC & Vendors -STROLL through the enchanted light display with your pups and friends!
X-ALT-DESC;FMTTYPE=text/html:Make plans to enjoy the Festival of Lights with your family\, friends\, and pups on leash (no retractables\, please!). Vendors and food trucks will be there for eats and shopping. *Additional Night added for 2018 Paws in the Park is an important fundraiser for HSDC\, contributing monies to our rescue and adoption programs. Your ticket and donations save lives. Event Activities: -Enjoy DINNER at our food truck rodeo -Get an early start on your holiday SHOPPING with HSDC &amp\; Vendors -STROLL through the enchanted light display with your pups and friends!
LOCATION:Tanglewood Park - Shelter 1
UID:e.2378.14681
SEQUENCE:3
DTSTAMP:20260421T081721Z
URL:https://business.daviechamber.com/events/details/paws-in-the-park-2-nights-14681
END:VEVENT

END:VCALENDAR
