BEGIN:VCALENDAR
VERSION:2.0
PRODID:-//ChamberMaster//Event Calendar 2.0//EN
METHOD:PUBLISH
X-PUBLISHED-TTL:P3D
REFRESH-INTERVAL:P3D
CALSCALE:GREGORIAN
BEGIN:VEVENT
DTSTART:20230812T140000Z
DTEND:20230812T200000Z
X-MICROSOFT-CDO-ALLDAYEVENT:FALSE
SUMMARY:Permanent Jewelry Pop Up
DESCRIPTION:Grab your Mom\, Sister\, Bestie\, or Yourself for a Permanent bracelet\, anklet\, necklace\, ring or all of the above!\n\nMake an appt online: https://book.heygoldie.com/Perma-Jeweld\n\nWalk-ins are Welcome as available!
X-ALT-DESC;FMTTYPE=text/html:<span style="font-size:18px\;"><span style="font-family:tahoma\;"><span style="color:#333333\;">Grab your Mom\, Sister\, Bestie\, or Yourself&nbsp\;</span></span></span><span style="font-family: tahoma\; font-size: 18px\;">for a Permanent bracelet\, anklet\, necklace\, ring or all of the above!</span><br />\n<span style="font-family: tahoma\; font-size: 18px\;">Make an appt online:&nbsp\;</span><u><strong><span style="font-size:18px\;"><span style="font-family:tahoma\;"><a class="x1i10hfl xjbqb8w x6umtig x1b1mbwd xaqea5y xav7gou x9f619 x1ypdohk xt0psk2 xe8uvvx xdj266r x11i5rnm xat24cr x1mh8g0r xexx8yu x4uap5 x18d9i69 xkhd6sd x16tdsg8 x1hl2dhg xggy1nq x1a2a7pz xt0b8zv x1fey0fg" href="https://book.heygoldie.com/Perma-Jeweld" rel="nofollow noreferrer" role="link" style="color: var(--blue-link)\; cursor: pointer\; text-decoration-line: none\; border-width: 0px\; border-style: initial\; border-color: initial\; outline: none\; list-style: none\; margin: 0px\; padding: 0px\; -webkit-tap-highlight-color: transparent\; box-sizing: border-box\; touch-action: manipulation\; display: inline\; font-family: &quot\;Segoe UI Historic&quot\;\, &quot\;Segoe UI&quot\;\, Helvetica\, Arial\, sans-serif\; font-size: 15px\;" tabindex="0" target="_blank">https://book.heygoldie.com/Perma-Jeweld</a></span></span></strong></u><br />\n<span style="font-family: tahoma\; font-size: 18px\;">Walk-ins are Welcome as available!</span>
LOCATION:Southern Ties Boutique
UID:e.2378.23169
SEQUENCE:3
DTSTAMP:20260425T201446Z
URL:https://business.daviechamber.com/events/details/permanent-jewelry-pop-up-23169
END:VEVENT

END:VCALENDAR
