BEGIN:VCALENDAR
VERSION:2.0
PRODID:-//ChamberMaster//Event Calendar 2.0//EN
METHOD:PUBLISH
X-PUBLISHED-TTL:P3D
REFRESH-INTERVAL:P3D
CALSCALE:GREGORIAN
BEGIN:VEVENT
DTSTART:20171125T150000Z
DTEND:20171125T180000Z
X-MICROSOFT-CDO-ALLDAYEVENT:FALSE
SUMMARY:Pictures and Paint with Santa
DESCRIPTION:Get a free picture with Santa\, he will only be at the studio for an hour from 10-11. Stay and craft with us till 1. We will have frames and painting for kids to do from $2-$5. All proceeds will be given to Davie Arts Council Arts in Education.
X-ALT-DESC;FMTTYPE=text/html:Get a free picture with Santa\, he will only be at the studio for an hour from 10-11. Stay and craft with us till 1. We will have frames and painting for kids to do from $2-$5. All proceeds will be given to Davie Arts Council Arts in Education.
LOCATION:Wild Mountain Art 1890 Farmington Rd
UID:e.2378.13279
SEQUENCE:3
DTSTAMP:20260421T235945Z
URL:https://business.daviechamber.com/events/details/pictures-and-paint-with-santa-13279
END:VEVENT

END:VCALENDAR
