BEGIN:VCALENDAR
VERSION:2.0
PRODID:-//ChamberMaster//Event Calendar 2.0//EN
METHOD:PUBLISH
X-PUBLISHED-TTL:P3D
REFRESH-INTERVAL:P3D
CALSCALE:GREGORIAN
BEGIN:VEVENT
DTSTART:20171020T230000Z
DTEND:20171021T010000Z
X-MICROSOFT-CDO-ALLDAYEVENT:FALSE
SUMMARY:PINK OUT for the cure at Beach'N Tans
DESCRIPTION:PINK OUT FOR A CURE and learn about Thrive!!  Free admission and there will be refreshments\, fun and giveaways.  Support Breast Cancer Awareness t-shirts will be available.
X-ALT-DESC;FMTTYPE=text/html:PINK OUT FOR A CURE and learn about Thrive!!&nbsp\; Free admission and there will be refreshments\, fun and giveaways.&nbsp\; Support Breast Cancer Awareness t-shirts will be available.
LOCATION:Beach'N Tans
UID:e.2378.12238
SEQUENCE:3
DTSTAMP:20260422T000334Z
URL:https://business.daviechamber.com/events/details/pink-out-for-the-cure-at-beach-n-tans-12238
END:VEVENT

END:VCALENDAR
