BEGIN:VCALENDAR
VERSION:2.0
PRODID:-//ChamberMaster//Event Calendar 2.0//EN
METHOD:PUBLISH
X-PUBLISHED-TTL:P3D
REFRESH-INTERVAL:P3D
CALSCALE:GREGORIAN
BEGIN:VEVENT
DTSTART:20181007T190000Z
DTEND:20181007T210000Z
X-MICROSOFT-CDO-ALLDAYEVENT:FALSE
SUMMARY:PINK POWER Dance Event Fundraiser for Cancer Services\, Inc.
DESCRIPTION:PINK POWER Dance Party Fundraiser for Cancer Services\, Inc. Sunday\, October 7th ~ 3-5pm Door prizes / Vendors / DJ TY Fundraiser will be held at Village Inn Event Center Licensed Fitness Instructors: Yo Hairston Jaiquala Tyree Tina Garner Jenn Murray Keya Ward Erica Ford Katina Boyd Carmen Gonzalez Tanya Rodriguez Paula Castro Tickets: $10 in advance or $12 at the door Tickets can be purchased at Tinderbox Fitness and Village Inn Event Center. See you on the Dance Floor!!
X-ALT-DESC;FMTTYPE=text/html:PINK POWER Dance Party Fundraiser for Cancer Services\, Inc. Sunday\, October 7th ~ 3-5pm Door prizes / Vendors / DJ TY Fundraiser will be held at Village Inn Event Center Licensed Fitness Instructors: Yo Hairston Jaiquala Tyree Tina Garner Jenn Murray Keya Ward Erica Ford Katina Boyd Carmen Gonzalez Tanya Rodriguez Paula Castro Tickets: $10 in advance or $12 at the door Tickets can be purchased at Tinderbox Fitness and Village Inn Event Center. See you on the Dance Floor!!
LOCATION:Village Inn Event Center 6205 Ramada Drive Clemmons NC 27012
UID:e.2378.14641
SEQUENCE:3
DTSTAMP:20260421T081915Z
URL:https://business.daviechamber.com/events/details/pink-power-dance-event-fundraiser-for-cancer-services-inc-14641
END:VEVENT

END:VCALENDAR
