BEGIN:VCALENDAR
VERSION:2.0
PRODID:-//ChamberMaster//Event Calendar 2.0//EN
METHOD:PUBLISH
X-PUBLISHED-TTL:P3D
REFRESH-INTERVAL:P3D
CALSCALE:GREGORIAN
BEGIN:VEVENT
DTSTART:20170225T121500Z
DTEND:20170225T121500Z
X-MICROSOFT-CDO-ALLDAYEVENT:FALSE
SUMMARY:POPSICLE 5K
DESCRIPTION:The Davie County Community Foundation\, SURF Board Youth Grantmakers will host its 6th Annual POPSICLE 5K on Saturday\, February 25\, 2017 to raise funds to award in the 2017 grant cycle.\n\n\n\nThe race starts at Mocksville Elementary School and goes through Rich Park. Check in and registration will be at 7:15 am\, and the race begins at 8:30 am.
X-ALT-DESC;FMTTYPE=text/html:The Davie County Community Foundation\, SURF Board Youth Grantmakers&nbsp\;will host its 6th Annual POPSICLE 5K on Saturday\, February 25\, 2017 to raise funds to award in the 2017 grant cycle.<br />\n<br />\nThe race starts at Mocksville Elementary School and goes through Rich Park. Check in and registration will be at 7:15 am\, and the race begins at 8:30 am.
LOCATION:Mocksville Elementary School 220 Cherry Street Mocksville\, NC 27028
UID:e.2378.10834
SEQUENCE:3
DTSTAMP:20260422T112116Z
URL:https://business.daviechamber.com/events/details/popsicle-5k-10834
END:VEVENT

END:VCALENDAR
