BEGIN:VCALENDAR
VERSION:2.0
PRODID:-//ChamberMaster//Event Calendar 2.0//EN
METHOD:PUBLISH
X-PUBLISHED-TTL:P3D
REFRESH-INTERVAL:P3D
CALSCALE:GREGORIAN
BEGIN:VEVENT
DTSTART:20161007T100000Z
DTEND:20161007T230000Z
X-MICROSOFT-CDO-ALLDAYEVENT:FALSE
SUMMARY:Pork & Beef BBQ
DESCRIPTION:The Advance Volunteer Fire & Resue is having their Pork & Beef BBQ Friday\, October 7th from 6:00 AM to 7:00 PM or until sold out.\n\n\n\nChopped Beef or Pork | Sliced Pork\n\nSandwiches | Plates | Pounds\n\n\n\nEat-in or Take-out
X-ALT-DESC;FMTTYPE=text/html:The Advance Volunteer Fire &amp\; Resue is having their Pork &amp\; Beef BBQ Friday\, October 7th from 6:00 AM to 7:00 PM or until sold out.<br />\n<br />\nChopped Beef or Pork | Sliced Pork<br />\nSandwiches | Plates | Pounds<br />\n<br />\nEat-in or Take-out
LOCATION:Advance Volunteer Fire & Rescue 169 Fire Station Rd Advance\, NC 27006
UID:e.2378.10155
SEQUENCE:3
DTSTAMP:20260422T190444Z
URL:https://business.daviechamber.com/events/details/pork-beef-bbq-10155
END:VEVENT

END:VCALENDAR
