BEGIN:VCALENDAR
VERSION:2.0
PRODID:-//ChamberMaster//Event Calendar 2.0//EN
METHOD:PUBLISH
X-PUBLISHED-TTL:P3D
REFRESH-INTERVAL:P3D
CALSCALE:GREGORIAN
BEGIN:VEVENT
DTSTART:20230713T223000Z
DTEND:20230714T013000Z
X-MICROSOFT-CDO-ALLDAYEVENT:FALSE
SUMMARY:Poundcake on the Deck!
DESCRIPTION:Rock out with Poundcake on the deck. They play a wide variety of your favorites from the 70's\, 80's\, & 90's.
X-ALT-DESC;FMTTYPE=text/html:<span style="color:#666666\;"><span style="font-size:18px\;"><span style="font-family:tahoma\;">Rock out with Poundcake on the deck. They play a wide variety of your favorites from the 70&#39\;s\, 80&#39\;s\, &amp\; 90&#39\;s.</span></span></span>
LOCATION:O'Callahans
UID:e.2378.23069
SEQUENCE:3
DTSTAMP:20260425T214110Z
URL:https://business.daviechamber.com/events/details/poundcake-on-the-deck-23069
END:VEVENT

END:VCALENDAR
