BEGIN:VCALENDAR
VERSION:2.0
PRODID:-//ChamberMaster//Event Calendar 2.0//EN
METHOD:PUBLISH
X-PUBLISHED-TTL:P3D
REFRESH-INTERVAL:P3D
CALSCALE:GREGORIAN
BEGIN:VEVENT
DTSTART:20151112T140000Z
DTEND:20151112T170000Z
X-MICROSOFT-CDO-ALLDAYEVENT:FALSE
SUMMARY:Preventing Suicide:Signs\,Symptoms and Resources
DESCRIPTION:This presentation will cover the basics of identifying signs and symptoms of suicidal thinking\, how to respond if someone you know is considering suicide and what resources are available to someone who is struggling with depression or anxiety.
X-ALT-DESC;FMTTYPE=text/html:This presentation will cover the basics of identifying signs and symptoms of suicidal thinking\, how to respond if someone you know is considering suicide and what resources are available to someone who is struggling with depression or anxiety.
LOCATION:Davie Wellness Center 142 Gaither Street Mocksville\, NC 27028
UID:e.2378.4285
SEQUENCE:3
DTSTAMP:20260422T055711Z
URL:https://business.daviechamber.com/events/details/preventing-suicide-signs-symptoms-and-resources-11-12-2015-4285
END:VEVENT

END:VCALENDAR
